BEGIN:VCALENDAR
VERSION:2.0
PRODID:-//Discover Knutsford - ECPv6.15.20//NONSGML v1.0//EN
CALSCALE:GREGORIAN
METHOD:PUBLISH
X-ORIGINAL-URL:https://www.discoverknutsford.com
X-WR-CALDESC:Events for Discover Knutsford
REFRESH-INTERVAL;VALUE=DURATION:PT1H
X-Robots-Tag:noindex
X-PUBLISHED-TTL:PT1H
BEGIN:VTIMEZONE
TZID:Europe/London
BEGIN:DAYLIGHT
TZOFFSETFROM:+0000
TZOFFSETTO:+0100
TZNAME:BST
DTSTART:20250330T010000
END:DAYLIGHT
BEGIN:STANDARD
TZOFFSETFROM:+0100
TZOFFSETTO:+0000
TZNAME:GMT
DTSTART:20251026T010000
END:STANDARD
BEGIN:DAYLIGHT
TZOFFSETFROM:+0000
TZOFFSETTO:+0100
TZNAME:BST
DTSTART:20260329T010000
END:DAYLIGHT
BEGIN:STANDARD
TZOFFSETFROM:+0100
TZOFFSETTO:+0000
TZNAME:GMT
DTSTART:20261025T010000
END:STANDARD
BEGIN:DAYLIGHT
TZOFFSETFROM:+0000
TZOFFSETTO:+0100
TZNAME:BST
DTSTART:20270328T010000
END:DAYLIGHT
BEGIN:STANDARD
TZOFFSETFROM:+0100
TZOFFSETTO:+0000
TZNAME:GMT
DTSTART:20271031T010000
END:STANDARD
END:VTIMEZONE
BEGIN:VEVENT
DTSTART;TZID=Europe/London:20260314T090000
DTEND;TZID=Europe/London:20260321T170000
DTSTAMP:20260425T233539
CREATED:20260217T110250Z
LAST-MODIFIED:20260217T110250Z
UID:34926-1773478800-1774112400@www.discoverknutsford.com
SUMMARY:HEALTH & WELLNESS WEEK | Free Foot Health Check
DESCRIPTION:Gain personalised advice and understand and learn more about your foot health
URL:https://www.discoverknutsford.com/event/health-wellness-week-free-foot-health-check/
LOCATION:Cheshire Foot Clinic\, 21a Tatton Street\, Knutsford\, Wa16 6ae\, United Kingdom
CATEGORIES:Wellness
ATTACH;FMTTYPE=image/jpeg:https://www.discoverknutsford.com/wp-content/uploads/2026/02/Cheshire-Foot-Clinic-800600-e1771326160880.jpg
END:VEVENT
BEGIN:VEVENT
DTSTART;TZID=Europe/London:20260314T100000
DTEND;TZID=Europe/London:20260314T120000
DTSTAMP:20260425T233539
CREATED:20260310T135807Z
LAST-MODIFIED:20260310T135807Z
UID:35267-1773482400-1773489600@www.discoverknutsford.com
SUMMARY:HEALTH & WELLNESS WEEK | Taster Massage Sessions
DESCRIPTION:Taster Massage Sessions – Health & Wellness Week at Elite Health \nCurious about massage therapy or in need of a quick reset? During Health & Wellness Week\, Elite Health is offering 20-minute taster massage sessions designed to help ease tension and leave you feeling refreshed. \nEach session focuses on one specific area of your choice:\nNeck & Shoulders or\nBack or\nLegs\nPlease indicate your choice when booking \nThese short treatments are perfect if you’d like to experience the benefits of massage\, target a particular area of tightness\, or simply take a little time out for yourself. \nImportant information: \nSessions are 20 minutes long\nTreatment will focus on one area only (neck & shoulders\, back\, or legs)\nAll participants must register with Elite Health and complete a short health screening form before their appointment \nAdvance booking is required and can be made online\, by telephone 01565 625800 or by emailing info@eliteh.co.uk \nSpaces are limited\, so book early to secure your spot and enjoy a relaxing moment during Health & Wellness Week.
URL:https://www.discoverknutsford.com/event/health-wellness-week-taster-massage-sessions/
LOCATION:Elite Health\, 14A Princess St\,\, Knutsford\, WA16 6BU\, United Kingdom
ATTACH;FMTTYPE=image/jpeg:https://www.discoverknutsford.com/wp-content/uploads/2026/03/IMG_0385-copy-1-scaled.jpg
ORGANIZER;CN="Elite Health":MAILTO:jacqueline@eliteh.co.uk
END:VEVENT
BEGIN:VEVENT
DTSTART;TZID=Europe/London:20260316T120000
DTEND;TZID=Europe/London:20260316T140000
DTSTAMP:20260425T233539
CREATED:20260311T104310Z
LAST-MODIFIED:20260311T104310Z
UID:35281-1773662400-1773669600@www.discoverknutsford.com
SUMMARY:HEALTH & WELLNESS WEEK | Taster Massage Sessions
DESCRIPTION:Taster Massage Sessions – Health & Wellness Week at Elite Health \nCurious about massage therapy or in need of a quick reset? During Health & Wellness Week\, Elite Health is offering 20-minute taster massage sessions designed to help ease tension and leave you feeling refreshed.\nEach session focuses on one specific area of your choice:\n• Neck & Shoulders\n• Back\n• Legs \nPlease indicate your choice when booking \nThese short treatments are perfect if you’d like to experience the benefits of massage\, target a particular area of tightness\, or simply take a little time out for yourself. \nImportant information:\nSessions are 20 minutes long\nTreatment will focus on one area only (neck & shoulders\, back\, or legs)\nAll participants must register with Elite Health and complete a short health screening form before their appointment\nAdvance booking is required and can be made online\, by telephone 01565 625800 or by emailing info@eliteh.co.uk\nSpaces are limited\, so book early to secure your spot and enjoy a relaxing moment during Health & Wellness Week.
URL:https://www.discoverknutsford.com/event/health-wellness-week-taster-massage-sessions-2/
LOCATION:Elite Health\, 14A Princess St\,\, Knutsford\, WA16 6BU\, United Kingdom
CATEGORIES:Wellness
ATTACH;FMTTYPE=image/jpeg:https://www.discoverknutsford.com/wp-content/uploads/2026/03/IMG_0408-copy-1-scaled.jpg
ORGANIZER;CN="Elite Health":MAILTO:jacqueline@eliteh.co.uk
END:VEVENT
BEGIN:VEVENT
DTSTART;TZID=Europe/London:20260316T190000
DTEND;TZID=Europe/London:20260316T203000
DTSTAMP:20260425T233539
CREATED:20260212T142004Z
LAST-MODIFIED:20260224T130524Z
UID:34872-1773687600-1773693000@www.discoverknutsford.com
SUMMARY:HEALTH & WELLNESS WEEK | Boost Your Energy: Simple Shifts to Feel More Energised (Workshop)
DESCRIPTION:This practical workshop session offers a supportive space to pause\, reflect\, and get clearer on your own energy level & the things that affect it. \nIf any of the following resonate then this session is perfect for you:\nYou feel like you’re running on low energy\, even when you’re doing all the “right” things?\nYou’re getting on with life\, juggling work\, family & home\, but your energy just doesn’t stretch as far as it used to & you end up feeling tired\, unfocused\, or a bit flat!\nYou often wake up feeling unrefreshed\, wondering whether you actually slept at all…& before you’re even out of bed your mind is already racing through everything that needs doing.\nYou intend to look after yourself\, be kind to yourself & take breaks…yet the day slips away and even small plans feel harder than they should.\nYour patience feels shorter. Your head feels cluttered. You’re constantly pushing through rather than feeling properly energised.\nYou keep telling yourself it’s just for now…that life will calm down & things will feel better…but when? \nLow energy doesn’t just affect how tired you feel; it impacts your mood\, your focus\, and how much you enjoy everyday life.\nAnd often it’s not about needing more motivation or making huge changes. It’s about understanding:\n– where your energy is being drained\n– what genuinely helps\n– and making a few simple\, realistic adjustments that fit your life as it is right now \nThis session will help you get clarity on what’s currently getting in the way\, what helps you feel more balanced\, and how to avoid overwhelm but make one meaningful shift you can realistically stick to. \n  \nPlaces are limited so booking is essential. Book your place here: https://boostyourenergyfor2026.eventbrite.co.uk
URL:https://www.discoverknutsford.com/event/health-wellness-week-boost-your-energy-simple-shifts-to-feel-more-energised-workshop/
LOCATION:Lost and Found\, Princess Street\, Knutsford\, WA16 6BY\, United Kingdom
CATEGORIES:Health,Wellness
ATTACH;FMTTYPE=image/png:https://www.discoverknutsford.com/wp-content/uploads/2026/02/Knutsford-Wellness-Week-2026-Eventbrite-Header.png
END:VEVENT
BEGIN:VEVENT
DTSTART;TZID=Europe/London:20260319T100000
DTEND;TZID=Europe/London:20260319T160000
DTSTAMP:20260425T233539
CREATED:20260212T142033Z
LAST-MODIFIED:20260212T142033Z
UID:34879-1773914400-1773936000@www.discoverknutsford.com
SUMMARY:HEALTH & WELLNESS WEEK | Health Coaching Taster Sessions
DESCRIPTION:Complimentary Vitality Breakthrough session. 45 minute personalised session to help you take the lead on your own health & wellness. \nIn this session I will help you: \n✨ Get clear on the goal(s) you want to have for your health & wellness\n✨ Understand how you can have more energy & reduce your overwhelm\n✨ Uncover what you really want to accomplish to look & feel better\n✨ Discover step-by-step how to start to put together a plan to reach your goals\n✨ Identify obstacles getting in the way of having your best health\n✨ Know some next steps to take now to have the support to get there! \nAre you ready to take the next step to rediscover your energy & boost your health & vitality? \nThere are 6 sessions available between 10am and 4pm on Thursday 19th March.\nSessions will be held online.\nPre-booking essential.\nPlease email: nikkichamberlain@live.co.uk to book your session.
URL:https://www.discoverknutsford.com/event/health-wellness-week-health-coaching-taster-sessions/
LOCATION:Online
CATEGORIES:Health,Wellness
ATTACH;FMTTYPE=image/jpeg:https://www.discoverknutsford.com/wp-content/uploads/2026/02/Nikki-9-scaled.jpg
END:VEVENT
END:VCALENDAR