BEGIN:VCALENDAR
VERSION:2.0
PRODID:-//Discover Knutsford - ECPv6.15.20//NONSGML v1.0//EN
CALSCALE:GREGORIAN
METHOD:PUBLISH
X-WR-CALNAME:Discover Knutsford
X-ORIGINAL-URL:https://www.discoverknutsford.com
X-WR-CALDESC:Events for Discover Knutsford
REFRESH-INTERVAL;VALUE=DURATION:PT1H
X-Robots-Tag:noindex
X-PUBLISHED-TTL:PT1H
BEGIN:VTIMEZONE
TZID:Europe/London
BEGIN:DAYLIGHT
TZOFFSETFROM:+0000
TZOFFSETTO:+0100
TZNAME:BST
DTSTART:20250330T010000
END:DAYLIGHT
BEGIN:STANDARD
TZOFFSETFROM:+0100
TZOFFSETTO:+0000
TZNAME:GMT
DTSTART:20251026T010000
END:STANDARD
BEGIN:DAYLIGHT
TZOFFSETFROM:+0000
TZOFFSETTO:+0100
TZNAME:BST
DTSTART:20260329T010000
END:DAYLIGHT
BEGIN:STANDARD
TZOFFSETFROM:+0100
TZOFFSETTO:+0000
TZNAME:GMT
DTSTART:20261025T010000
END:STANDARD
BEGIN:DAYLIGHT
TZOFFSETFROM:+0000
TZOFFSETTO:+0100
TZNAME:BST
DTSTART:20270328T010000
END:DAYLIGHT
BEGIN:STANDARD
TZOFFSETFROM:+0100
TZOFFSETTO:+0000
TZNAME:GMT
DTSTART:20271031T010000
END:STANDARD
END:VTIMEZONE
BEGIN:VEVENT
DTSTART;TZID=Europe/London:20260624T143000
DTEND;TZID=Europe/London:20260624T163000
DTSTAMP:20260424T183019
CREATED:20260413T154244Z
LAST-MODIFIED:20260413T154244Z
UID:35610-1782311400-1782318600@www.discoverknutsford.com
SUMMARY:HISTORY | Elizabeth Gaskell and her Cheshire Connections
DESCRIPTION:Elizabeth Gaskell spent her childhood in Knutsford and Anthony Burton (Gaskell Society) looks beyond Knutsford to include Sandlebridge and other Cheshire places she encountered\, highlighting the breadth of her local ties\, including her friendships with the Samuel Greg family of Bollington and Caroline Davenport of Capesthorne.
URL:https://www.discoverknutsford.com/event/history-elizabeth-gaskell-and-her-cheshire-connections/
LOCATION:Tabley House Collection\, Tabley House Tabley Lane\, Knutsford\, Cheshire\, WA16 0HB
CATEGORIES:History
ATTACH;FMTTYPE=image/jpeg:https://www.discoverknutsford.com/wp-content/uploads/2026/04/Elizabeth-Gaskell-Kings-Treasury-Copy.jpg
ORGANIZER;CN="Friends of Tabley":MAILTO:LadyBatters@hotmail.com
END:VEVENT
END:VCALENDAR