BEGIN:VCALENDAR
VERSION:2.0
PRODID:-//Discover Knutsford - ECPv6.15.20//NONSGML v1.0//EN
CALSCALE:GREGORIAN
METHOD:PUBLISH
X-WR-CALNAME:Discover Knutsford
X-ORIGINAL-URL:https://www.discoverknutsford.com
X-WR-CALDESC:Events for Discover Knutsford
REFRESH-INTERVAL;VALUE=DURATION:PT1H
X-Robots-Tag:noindex
X-PUBLISHED-TTL:PT1H
BEGIN:VTIMEZONE
TZID:Europe/London
BEGIN:DAYLIGHT
TZOFFSETFROM:+0000
TZOFFSETTO:+0100
TZNAME:BST
DTSTART:20250330T010000
END:DAYLIGHT
BEGIN:STANDARD
TZOFFSETFROM:+0100
TZOFFSETTO:+0000
TZNAME:GMT
DTSTART:20251026T010000
END:STANDARD
BEGIN:DAYLIGHT
TZOFFSETFROM:+0000
TZOFFSETTO:+0100
TZNAME:BST
DTSTART:20260329T010000
END:DAYLIGHT
BEGIN:STANDARD
TZOFFSETFROM:+0100
TZOFFSETTO:+0000
TZNAME:GMT
DTSTART:20261025T010000
END:STANDARD
BEGIN:DAYLIGHT
TZOFFSETFROM:+0000
TZOFFSETTO:+0100
TZNAME:BST
DTSTART:20270328T010000
END:DAYLIGHT
BEGIN:STANDARD
TZOFFSETFROM:+0100
TZOFFSETTO:+0000
TZNAME:GMT
DTSTART:20271031T010000
END:STANDARD
END:VTIMEZONE
BEGIN:VEVENT
DTSTART;TZID=Europe/London:20260511T080000
DTEND;TZID=Europe/London:20260516T170000
DTSTAMP:20260425T191751
CREATED:20260204T104858Z
LAST-MODIFIED:20260204T104858Z
UID:34794-1778486400-1778950800@www.discoverknutsford.com
SUMMARY:SHOPPING | Knutsford Fashion Week
DESCRIPTION:Knutsford Fashion Week will take place from 11th – 16th May providing the perfect opportunity for shoppers to get inspired and refresh their wardrobes for summer in a week long event concluding with a Fashion Show at The Lost & Found \nThis event is a collaboration between Knutsford Town Council and local boutiques to highlight the wonderful collection of independent fashion retailers in Knutsford. \nThe Fashion show on the 16th May will kick off at 11am in Lost and Found with a fashion show featuring the latest looks from local boutiques\, compared by Katy Rickitt of Dexter and Jones. Attendees then peruse the shops and enjoy a variety of complimentary services in store including on-hand stylists\, beauty treatments\, a glass of fizz and goody bags.
URL:https://www.discoverknutsford.com/event/shopping-knutsford-fashion-week/
LOCATION:Lost and Found\, Princess Street\, Knutsford\, WA16 6BY\, United Kingdom
CATEGORIES:Community
ATTACH;FMTTYPE=image/jpeg:https://www.discoverknutsford.com/wp-content/uploads/2026/02/Flash_Fashion_SS25_Re-Sized_29.jpg
ORGANIZER;CN="Knutsford Town Council":MAILTO:enquiries@knutsfordtowncouncil.gov.uk
END:VEVENT
BEGIN:VEVENT
DTSTART;TZID=Europe/London:20260522T120000
DTEND;TZID=Europe/London:20260522T130000
DTSTAMP:20260425T191751
CREATED:20260422T131625Z
LAST-MODIFIED:20260422T131625Z
UID:35715-1779451200-1779454800@www.discoverknutsford.com
SUMMARY:LOVE YOUR LOCAL MARKET | Shopping and Songs
DESCRIPTION:Friday feel good tunes with Maise Farber Evans.
URL:https://www.discoverknutsford.com/event/love-your-local-market-shopping-and-songs/
LOCATION:Knutsford Market Hall\, Silk Mill Street\, Knutsford\, Cheshire\, WA16 6DF\, United Kingdom
CATEGORIES:Live Music,Market
ATTACH;FMTTYPE=image/jpeg:https://www.discoverknutsford.com/wp-content/uploads/2026/04/L1000137.jpeg
ORGANIZER;CN="Knutsford Market Hall":MAILTO:hello@knutsfordmarket.co.uk
END:VEVENT
BEGIN:VEVENT
DTSTART;TZID=Europe/London:20260523T100000
DTEND;TZID=Europe/London:20260523T120000
DTSTAMP:20260425T191751
CREATED:20260422T133527Z
LAST-MODIFIED:20260422T133527Z
UID:35718-1779530400-1779537600@www.discoverknutsford.com
SUMMARY:LOVE YOUR LOCAL MARKET | Taste of the Market
DESCRIPTION:Awaken your tastebuds with samples from The Market Cafe\, Knutsford Market Hall Butcher\, York + Co and SWEET. Knutsford. Sample authentic baklava\, crumbly Cheshire cheese\, salami\, organic fruit and some sweet treats. The market is grateful to Knutsford Hosts for their suppport serving.
URL:https://www.discoverknutsford.com/event/love-your-local-market-taste-of-the-market/
LOCATION:Knutsford Market Hall\, Silk Mill Street\, Knutsford\, Cheshire\, WA16 6DF\, United Kingdom
CATEGORIES:Community,Food and Drink
ATTACH;FMTTYPE=image/jpeg:https://www.discoverknutsford.com/wp-content/uploads/2026/04/IMG_0461-scaled.jpeg
ORGANIZER;CN="Knutsford Market Hall":MAILTO:hello@knutsfordmarket.co.uk
END:VEVENT
BEGIN:VEVENT
DTSTART;TZID=Europe/London:20260529T140000
DTEND;TZID=Europe/London:20260529T150000
DTSTAMP:20260425T191751
CREATED:20260422T135055Z
LAST-MODIFIED:20260422T135055Z
UID:35724-1780063200-1780066800@www.discoverknutsford.com
SUMMARY:LOVE YOUR LOCAL MARKET | Shopping and Songs
DESCRIPTION:Shopping and Songs with Canute Male Voice Singers.
URL:https://www.discoverknutsford.com/event/love-your-local-market-shopping-and-songs-2/
LOCATION:Knutsford Market Hall\, Silk Mill Street\, Knutsford\, Cheshire\, WA16 6DF\, United Kingdom
CATEGORIES:Food and Drink,Live Music,Market
ATTACH;FMTTYPE=image/jpeg:https://www.discoverknutsford.com/wp-content/uploads/2026/04/IMG_3436.jpeg
ORGANIZER;CN="Knutsford Market Hall":MAILTO:hello@knutsfordmarket.co.uk
END:VEVENT
END:VCALENDAR