BEGIN:VCALENDAR
VERSION:2.0
PRODID:-//Discover Knutsford - ECPv6.15.20//NONSGML v1.0//EN
CALSCALE:GREGORIAN
METHOD:PUBLISH
X-WR-CALNAME:Discover Knutsford
X-ORIGINAL-URL:https://www.discoverknutsford.com
X-WR-CALDESC:Events for Discover Knutsford
REFRESH-INTERVAL;VALUE=DURATION:PT1H
X-Robots-Tag:noindex
X-PUBLISHED-TTL:PT1H
BEGIN:VTIMEZONE
TZID:Europe/London
BEGIN:DAYLIGHT
TZOFFSETFROM:+0000
TZOFFSETTO:+0100
TZNAME:BST
DTSTART:20250330T010000
END:DAYLIGHT
BEGIN:STANDARD
TZOFFSETFROM:+0100
TZOFFSETTO:+0000
TZNAME:GMT
DTSTART:20251026T010000
END:STANDARD
BEGIN:DAYLIGHT
TZOFFSETFROM:+0000
TZOFFSETTO:+0100
TZNAME:BST
DTSTART:20260329T010000
END:DAYLIGHT
BEGIN:STANDARD
TZOFFSETFROM:+0100
TZOFFSETTO:+0000
TZNAME:GMT
DTSTART:20261025T010000
END:STANDARD
BEGIN:DAYLIGHT
TZOFFSETFROM:+0000
TZOFFSETTO:+0100
TZNAME:BST
DTSTART:20270328T010000
END:DAYLIGHT
BEGIN:STANDARD
TZOFFSETFROM:+0100
TZOFFSETTO:+0000
TZNAME:GMT
DTSTART:20271031T010000
END:STANDARD
END:VTIMEZONE
BEGIN:VEVENT
DTSTART;TZID=Europe/London:20260222T110000
DTEND;TZID=Europe/London:20260222T150000
DTSTAMP:20260425T205745
CREATED:20260105T144631Z
LAST-MODIFIED:20260209T122508Z
UID:34602-1771758000-1771772400@www.discoverknutsford.com
SUMMARY:SHOPPING | Sunday Antique and Vintage Market
DESCRIPTION:Monthly Last Sunday of the month market.\nKnutsford Market Hall. WA16 6DF.\nAntiques\, Vintage\, Preloved\, Artisan\nIndoor Market Hall\nSunday 22nd February 2026\n11-3pm\nFREE ENTRY
URL:https://www.discoverknutsford.com/event/shopping-sunday-antique-and-vintage-market/
LOCATION:Knutsford Market Hall\, Silk Mill Street\, Knutsford\, Cheshire\, WA16 6DF\, United Kingdom
ATTACH;FMTTYPE=image/jpeg:https://www.discoverknutsford.com/wp-content/uploads/2026/01/IMG_9071-scaled-e1767624078585.jpeg
ORGANIZER;CN="Knutsford Sunday Monthly Market":MAILTO:april@btinternet.com
END:VEVENT
END:VCALENDAR