BEGIN:VCALENDAR
VERSION:2.0
PRODID:-//Discover Knutsford - ECPv6.15.20//NONSGML v1.0//EN
CALSCALE:GREGORIAN
METHOD:PUBLISH
X-ORIGINAL-URL:https://www.discoverknutsford.com
X-WR-CALDESC:Events for Discover Knutsford
REFRESH-INTERVAL;VALUE=DURATION:PT1H
X-Robots-Tag:noindex
X-PUBLISHED-TTL:PT1H
BEGIN:VTIMEZONE
TZID:Europe/London
BEGIN:DAYLIGHT
TZOFFSETFROM:+0000
TZOFFSETTO:+0100
TZNAME:BST
DTSTART:20250330T010000
END:DAYLIGHT
BEGIN:STANDARD
TZOFFSETFROM:+0100
TZOFFSETTO:+0000
TZNAME:GMT
DTSTART:20251026T010000
END:STANDARD
BEGIN:DAYLIGHT
TZOFFSETFROM:+0000
TZOFFSETTO:+0100
TZNAME:BST
DTSTART:20260329T010000
END:DAYLIGHT
BEGIN:STANDARD
TZOFFSETFROM:+0100
TZOFFSETTO:+0000
TZNAME:GMT
DTSTART:20261025T010000
END:STANDARD
BEGIN:DAYLIGHT
TZOFFSETFROM:+0000
TZOFFSETTO:+0100
TZNAME:BST
DTSTART:20270328T010000
END:DAYLIGHT
BEGIN:STANDARD
TZOFFSETFROM:+0100
TZOFFSETTO:+0000
TZNAME:GMT
DTSTART:20271031T010000
END:STANDARD
END:VTIMEZONE
BEGIN:VEVENT
DTSTART;TZID=Europe/London:20260410T180000
DTEND;TZID=Europe/London:20260410T190000
DTSTAMP:20260425T233951
CREATED:20260223T100619Z
LAST-MODIFIED:20260330T095105Z
UID:35025-1775844000-1775847600@www.discoverknutsford.com
SUMMARY:Acoustic Candlelit Flow
DESCRIPTION:Join Charlotte and Perrine for a deeply nourishing evening of movement\, music and connection\, held gently by candlelight. \nAcoustic Flow is a balancing yoga practice that weaves together yin and yang\, inviting both softness and strength as we move\, breathe and settle into stillness. Throughout the session\, Perrine will play live acoustic guitar\, creating a calm\, immersive soundscape to support relaxation and presence \nMembers and Class Pass Holders-event included with £3 surcharge \nNon-Members £15
URL:https://www.discoverknutsford.com/event/health-wellness-week-acoustic-candlelit-flow/
LOCATION:Satya Sanctuary\, 44-46 King St\, Knutsford\, WA16 6DT\, United Kingdom
CATEGORIES:Live Music,Wellness
ATTACH;FMTTYPE=image/jpeg:https://www.discoverknutsford.com/wp-content/uploads/2026/02/IMG_8472-e1771841168271.jpeg
END:VEVENT
END:VCALENDAR