BEGIN:VCALENDAR
VERSION:2.0
PRODID:-//Discover Knutsford - ECPv6.15.20//NONSGML v1.0//EN
CALSCALE:GREGORIAN
METHOD:PUBLISH
X-ORIGINAL-URL:https://www.discoverknutsford.com
X-WR-CALDESC:Events for Discover Knutsford
REFRESH-INTERVAL;VALUE=DURATION:PT1H
X-Robots-Tag:noindex
X-PUBLISHED-TTL:PT1H
BEGIN:VTIMEZONE
TZID:Europe/London
BEGIN:DAYLIGHT
TZOFFSETFROM:+0000
TZOFFSETTO:+0100
TZNAME:BST
DTSTART:20250330T010000
END:DAYLIGHT
BEGIN:STANDARD
TZOFFSETFROM:+0100
TZOFFSETTO:+0000
TZNAME:GMT
DTSTART:20251026T010000
END:STANDARD
BEGIN:DAYLIGHT
TZOFFSETFROM:+0000
TZOFFSETTO:+0100
TZNAME:BST
DTSTART:20260329T010000
END:DAYLIGHT
BEGIN:STANDARD
TZOFFSETFROM:+0100
TZOFFSETTO:+0000
TZNAME:GMT
DTSTART:20261025T010000
END:STANDARD
BEGIN:DAYLIGHT
TZOFFSETFROM:+0000
TZOFFSETTO:+0100
TZNAME:BST
DTSTART:20270328T010000
END:DAYLIGHT
BEGIN:STANDARD
TZOFFSETFROM:+0100
TZOFFSETTO:+0000
TZNAME:GMT
DTSTART:20271031T010000
END:STANDARD
END:VTIMEZONE
BEGIN:VEVENT
DTSTART;TZID=Europe/London:20260322T113000
DTEND;TZID=Europe/London:20260322T133000
DTSTAMP:20260426T011549
CREATED:20260302T152930Z
LAST-MODIFIED:20260304T105009Z
UID:35140-1774179000-1774186200@www.discoverknutsford.com
SUMMARY:HEALTH & WELLNESS WEEK | Tone\, Stretch &Relax
DESCRIPTION:Join Maryline and Louise for a balancing wellness session combining Fitness and Restorative Yoga! This refreshing collaboration of an all over body conditioning workout\, leading into deep stretches and a guided relaxation\, is the perfect balance to reset your energy for the start of spring and take part in Knutsford health and well being week.
URL:https://www.discoverknutsford.com/event/health-wellness-week-tone-stretch-relax/
LOCATION:Charlton Lodge\, The Moor\, Knutsford
CATEGORIES:Community,Health,Wellness
ATTACH;FMTTYPE=image/jpeg:https://www.discoverknutsford.com/wp-content/uploads/2026/03/IMG_6181.jpeg
END:VEVENT
END:VCALENDAR