BEGIN:VCALENDAR
VERSION:2.0
PRODID:-//Discover Knutsford - ECPv6.15.20//NONSGML v1.0//EN
CALSCALE:GREGORIAN
METHOD:PUBLISH
X-ORIGINAL-URL:https://www.discoverknutsford.com
X-WR-CALDESC:Events for Discover Knutsford
REFRESH-INTERVAL;VALUE=DURATION:PT1H
X-Robots-Tag:noindex
X-PUBLISHED-TTL:PT1H
BEGIN:VTIMEZONE
TZID:Europe/London
BEGIN:DAYLIGHT
TZOFFSETFROM:+0000
TZOFFSETTO:+0100
TZNAME:BST
DTSTART:20250330T010000
END:DAYLIGHT
BEGIN:STANDARD
TZOFFSETFROM:+0100
TZOFFSETTO:+0000
TZNAME:GMT
DTSTART:20251026T010000
END:STANDARD
BEGIN:DAYLIGHT
TZOFFSETFROM:+0000
TZOFFSETTO:+0100
TZNAME:BST
DTSTART:20260329T010000
END:DAYLIGHT
BEGIN:STANDARD
TZOFFSETFROM:+0100
TZOFFSETTO:+0000
TZNAME:GMT
DTSTART:20261025T010000
END:STANDARD
BEGIN:DAYLIGHT
TZOFFSETFROM:+0000
TZOFFSETTO:+0100
TZNAME:BST
DTSTART:20270328T010000
END:DAYLIGHT
BEGIN:STANDARD
TZOFFSETFROM:+0100
TZOFFSETTO:+0000
TZNAME:GMT
DTSTART:20271031T010000
END:STANDARD
END:VTIMEZONE
BEGIN:VEVENT
DTSTART;TZID=Europe/London:20260316T120000
DTEND;TZID=Europe/London:20260316T140000
DTSTAMP:20260426T012522
CREATED:20260311T104310Z
LAST-MODIFIED:20260311T104310Z
UID:35281-1773662400-1773669600@www.discoverknutsford.com
SUMMARY:HEALTH & WELLNESS WEEK | Taster Massage Sessions
DESCRIPTION:Taster Massage Sessions – Health & Wellness Week at Elite Health \nCurious about massage therapy or in need of a quick reset? During Health & Wellness Week\, Elite Health is offering 20-minute taster massage sessions designed to help ease tension and leave you feeling refreshed.\nEach session focuses on one specific area of your choice:\n• Neck & Shoulders\n• Back\n• Legs \nPlease indicate your choice when booking \nThese short treatments are perfect if you’d like to experience the benefits of massage\, target a particular area of tightness\, or simply take a little time out for yourself. \nImportant information:\nSessions are 20 minutes long\nTreatment will focus on one area only (neck & shoulders\, back\, or legs)\nAll participants must register with Elite Health and complete a short health screening form before their appointment\nAdvance booking is required and can be made online\, by telephone 01565 625800 or by emailing info@eliteh.co.uk\nSpaces are limited\, so book early to secure your spot and enjoy a relaxing moment during Health & Wellness Week.
URL:https://www.discoverknutsford.com/event/health-wellness-week-taster-massage-sessions-2/
LOCATION:Elite Health\, 14A Princess St\,\, Knutsford\, WA16 6BU\, United Kingdom
CATEGORIES:Wellness
ATTACH;FMTTYPE=image/jpeg:https://www.discoverknutsford.com/wp-content/uploads/2026/03/IMG_0408-copy-1-scaled.jpg
ORGANIZER;CN="Elite Health":MAILTO:jacqueline@eliteh.co.uk
END:VEVENT
END:VCALENDAR