BEGIN:VCALENDAR
VERSION:2.0
PRODID:-//Discover Knutsford - ECPv6.15.20//NONSGML v1.0//EN
CALSCALE:GREGORIAN
METHOD:PUBLISH
X-WR-CALNAME:Discover Knutsford
X-ORIGINAL-URL:https://www.discoverknutsford.com
X-WR-CALDESC:Events for Discover Knutsford
REFRESH-INTERVAL;VALUE=DURATION:PT1H
X-Robots-Tag:noindex
X-PUBLISHED-TTL:PT1H
BEGIN:VTIMEZONE
TZID:Europe/London
BEGIN:DAYLIGHT
TZOFFSETFROM:+0000
TZOFFSETTO:+0100
TZNAME:BST
DTSTART:20250330T010000
END:DAYLIGHT
BEGIN:STANDARD
TZOFFSETFROM:+0100
TZOFFSETTO:+0000
TZNAME:GMT
DTSTART:20251026T010000
END:STANDARD
BEGIN:DAYLIGHT
TZOFFSETFROM:+0000
TZOFFSETTO:+0100
TZNAME:BST
DTSTART:20260329T010000
END:DAYLIGHT
BEGIN:STANDARD
TZOFFSETFROM:+0100
TZOFFSETTO:+0000
TZNAME:GMT
DTSTART:20261025T010000
END:STANDARD
BEGIN:DAYLIGHT
TZOFFSETFROM:+0000
TZOFFSETTO:+0100
TZNAME:BST
DTSTART:20270328T010000
END:DAYLIGHT
BEGIN:STANDARD
TZOFFSETFROM:+0100
TZOFFSETTO:+0000
TZNAME:GMT
DTSTART:20271031T010000
END:STANDARD
END:VTIMEZONE
BEGIN:VEVENT
DTSTART;TZID=Europe/London:20260316T100000
DTEND;TZID=Europe/London:20260320T160000
DTSTAMP:20260426T010138
CREATED:20260304T112813Z
LAST-MODIFIED:20260304T112813Z
UID:35164-1773655200-1774022400@www.discoverknutsford.com
SUMMARY:HEALTH & WELLNESS WEEK | Free Hearing Health Appointments
DESCRIPTION:Hearing Health Awareness appointments available Monday to Friday between 10am and 4pm. These appointments are offered to you free of charge and will be a relaxed and easy way to ask about hearing and tinnitus. Advice and demonstrations of hearing instruments\, wireless TV devices\, accessories and smart phone apps can be offered. \nWe are also offering 10% discount on any bespoke noise and leisure solutions for protection when swimming\, sleeping\, motorcycling or performing and listening to music. \nBooking is essential on 01565 754894 or email: info@knutsfordhearingcentre.co.uk
URL:https://www.discoverknutsford.com/event/health-wellness-week-free-hearing-health-appointments/
LOCATION:Knutsford Hearing Centre\, 4 Princess Street\, Knutsford\, Cheshire\, WA16 6DD\, United Kingdom
CATEGORIES:Community,Health
ATTACH;FMTTYPE=image/png:https://www.discoverknutsford.com/wp-content/uploads/2026/03/THRIVE_8.png
ORGANIZER;CN="Knutsford Hearing Centre":MAILTO:info@knutsfordhearingcentre.co.uk
END:VEVENT
END:VCALENDAR