BEGIN:VCALENDAR
VERSION:2.0
PRODID:-//Discover Knutsford - ECPv6.15.20//NONSGML v1.0//EN
CALSCALE:GREGORIAN
METHOD:PUBLISH
X-ORIGINAL-URL:https://www.discoverknutsford.com
X-WR-CALDESC:Events for Discover Knutsford
REFRESH-INTERVAL;VALUE=DURATION:PT1H
X-Robots-Tag:noindex
X-PUBLISHED-TTL:PT1H
BEGIN:VTIMEZONE
TZID:Europe/London
BEGIN:DAYLIGHT
TZOFFSETFROM:+0000
TZOFFSETTO:+0100
TZNAME:BST
DTSTART:20250330T010000
END:DAYLIGHT
BEGIN:STANDARD
TZOFFSETFROM:+0100
TZOFFSETTO:+0000
TZNAME:GMT
DTSTART:20251026T010000
END:STANDARD
BEGIN:DAYLIGHT
TZOFFSETFROM:+0000
TZOFFSETTO:+0100
TZNAME:BST
DTSTART:20260329T010000
END:DAYLIGHT
BEGIN:STANDARD
TZOFFSETFROM:+0100
TZOFFSETTO:+0000
TZNAME:GMT
DTSTART:20261025T010000
END:STANDARD
BEGIN:DAYLIGHT
TZOFFSETFROM:+0000
TZOFFSETTO:+0100
TZNAME:BST
DTSTART:20270328T010000
END:DAYLIGHT
BEGIN:STANDARD
TZOFFSETFROM:+0100
TZOFFSETTO:+0000
TZNAME:GMT
DTSTART:20271031T010000
END:STANDARD
END:VTIMEZONE
BEGIN:VEVENT
DTSTART;VALUE=DATE:20260314
DTEND;VALUE=DATE:20260322
DTSTAMP:20260425T204856
CREATED:20260120T101821Z
LAST-MODIFIED:20260213T121637Z
UID:34728-1773446400-1774137599@www.discoverknutsford.com
SUMMARY:WELLNESS | Health & Wellness Week
DESCRIPTION:Organised by Knutsford Town Council\, Health and Wellness Week will showcase a range of talks\, presentations and taster sessions focussing on physical and mental health across the town. The pop ups\, from a broad variety of Knutsford based health and wellbeing businesses\, will take place across different venues in Knutsford town centre starting on Saturday 14th March until Saturday 22nd March. \nEvents include taster yoga sessions\, free talks on nutrition and the menopause alongside free assessments from local opticians\, dentists and hearing specialists. \nDownload the Full Programme.
URL:https://www.discoverknutsford.com/event/wellness-wellness-week/
LOCATION:Knutsford\, Council Offices\, Knutsford\, Cheshire\, WA16 6TA\, United Kingdom
CATEGORIES:Community,Health,Mental Health,Wellness
ATTACH;FMTTYPE=image/jpeg:https://www.discoverknutsford.com/wp-content/uploads/2026/01/thlt-lcx-Hn4wYHOaeIc-unsplash-scaled.jpg
ORGANIZER;CN="Knutsford Town Council":MAILTO:enquiries@knutsfordtowncouncil.gov.uk
END:VEVENT
BEGIN:VEVENT
DTSTART;TZID=Europe/London:20260314T110000
DTEND;TZID=Europe/London:20260314T140000
DTSTAMP:20260425T204856
CREATED:20260212T100033Z
LAST-MODIFIED:20260212T100033Z
UID:34866-1773486000-1773496800@www.discoverknutsford.com
SUMMARY:COMMUNITY | Re-Fresh Knutsford 2026
DESCRIPTION:Knutsford’s Community freshers-style fair\, Re-Fresh Knutsford\, is set to return in March giving community groups\, charities\, and clubs the opportunity to showcase their organisation and recruit members. \nOrganised by Knutsford Town Council\, Re-Fresh Knutsford emerged in 2021 as a community fair based on the concept of a ‘freshers fair’. \nThe event gave Knutsford residents the opportunity to discover organisations and clubs within the town and to connect to groups working in the community. \nAs an important part of wellness week\, the event will be held across two venues: Knutsford Methodist Church and St Johns Church from 11am – 2pm. \nIt is free to exhibit for all groups. \nIt is a brilliant opportunity for Knutsford to connect groups to residents and showcase what they do. \nAny groups wishing to exhibit \, please contact enquiries@knutsfordtowncouncil.gov.uk \n 
URL:https://www.discoverknutsford.com/event/community-re-fresh-knutsford-2026/
LOCATION:St John’s Church\, Church Hill\, Knutsford\, United Kingdom
CATEGORIES:Community,Fundraising,Open Day,Wellness
ATTACH;FMTTYPE=image/png:https://www.discoverknutsford.com/wp-content/uploads/2026/02/INSTAGRAM-Re-Fresh-Knutsford-Social-20210819-e1770890210181.png
END:VEVENT
END:VCALENDAR