BEGIN:VCALENDAR
VERSION:2.0
PRODID:-//Discover Knutsford - ECPv6.15.20//NONSGML v1.0//EN
CALSCALE:GREGORIAN
METHOD:PUBLISH
X-WR-CALNAME:Discover Knutsford
X-ORIGINAL-URL:https://www.discoverknutsford.com
X-WR-CALDESC:Events for Discover Knutsford
REFRESH-INTERVAL;VALUE=DURATION:PT1H
X-Robots-Tag:noindex
X-PUBLISHED-TTL:PT1H
BEGIN:VTIMEZONE
TZID:Europe/London
BEGIN:DAYLIGHT
TZOFFSETFROM:+0000
TZOFFSETTO:+0100
TZNAME:BST
DTSTART:20250330T010000
END:DAYLIGHT
BEGIN:STANDARD
TZOFFSETFROM:+0100
TZOFFSETTO:+0000
TZNAME:GMT
DTSTART:20251026T010000
END:STANDARD
BEGIN:DAYLIGHT
TZOFFSETFROM:+0000
TZOFFSETTO:+0100
TZNAME:BST
DTSTART:20260329T010000
END:DAYLIGHT
BEGIN:STANDARD
TZOFFSETFROM:+0100
TZOFFSETTO:+0000
TZNAME:GMT
DTSTART:20261025T010000
END:STANDARD
BEGIN:DAYLIGHT
TZOFFSETFROM:+0000
TZOFFSETTO:+0100
TZNAME:BST
DTSTART:20270328T010000
END:DAYLIGHT
BEGIN:STANDARD
TZOFFSETFROM:+0100
TZOFFSETTO:+0000
TZNAME:GMT
DTSTART:20271031T010000
END:STANDARD
END:VTIMEZONE
BEGIN:VEVENT
DTSTART;TZID=Europe/London:20260515T180000
DTEND;TZID=Europe/London:20260515T220000
DTSTAMP:20260425T125034
CREATED:20260114T110953Z
LAST-MODIFIED:20260114T110953Z
UID:34676-1778868000-1778882400@www.discoverknutsford.com
SUMMARY:MUSIC | Mega Y2K Live at Arley Hall
DESCRIPTION:Gareth Gates and Adam Rickitt will headline the amazing Mega Y2K concert on Friday\, 15 May\, which will officially open the weekend of fantastic live music in the stunning grounds of Arley Hall near Knutsford.\nThe singing stars will be supported in the night of millennium magic by award-winning tributes to Celine Dion\, Five\, Blue and the Backstreet Boys.
URL:https://www.discoverknutsford.com/event/music-mega-y2k-live-at-arley-hall/
LOCATION:ArleyHall\, Back Lane\, Arley\, CW9 6NA\, Back Lane\, Arley Hall\, CW9 6NA\, United Kingdom
CATEGORIES:Live Music
ATTACH;FMTTYPE=image/png:https://www.discoverknutsford.com/wp-content/uploads/2026/01/Arley-Web-Squares.zip-1.png
ORGANIZER;CN="CheshireConcerts":MAILTO:max@cheshireconcerts.com
END:VEVENT
BEGIN:VEVENT
DTSTART;TZID=Europe/London:20260516T160000
DTEND;TZID=Europe/London:20260516T220000
DTSTAMP:20260425T125034
CREATED:20260114T111120Z
LAST-MODIFIED:20260114T111120Z
UID:34667-1778947200-1778968800@www.discoverknutsford.com
SUMMARY:MUSIC | Back to Boogie 2026 Live at Arley Hall
DESCRIPTION:Back to Boogie is a glittering celebration of disco\, funk and soul returning to Arley Hall & Gardens on Saturday 16th May 2026.\nThe line-up of iconic 70s and 80s superstars includes Imagination featuring Leee John (Just an Illusion\, Body Talk and Flashback)\, 5 Star (System Addict\, Rain or Shine and Can’t Wait Another Minute)\, The Real Thing (You to me Are Everything\, Can’t Get by Without You and Can You Feel the Force?)\, Jaki Graham (Could it be I’m Falling in Love? (with David Grant)\, Round and Around and Set Me Free)\, Livin’ Joy (Dreamer\, Don’t Stop Movin’)\, Romina Johnson (Movin’ Too Fast) and boasts over 57 Million Records Sold and 26 Top 10 Hits between the line up!
URL:https://www.discoverknutsford.com/event/music-back-to-boogie-2026-live-at-arley-hall/
LOCATION:ArleyHall\, Back Lane\, Arley\, CW9 6NA\, Back Lane\, Arley Hall\, CW9 6NA\, United Kingdom
CATEGORIES:Live Music
ATTACH;FMTTYPE=image/png:https://www.discoverknutsford.com/wp-content/uploads/2026/01/Arley-Web-Squares.zip-W.png
ORGANIZER;CN="CheshireConcerts":MAILTO:max@cheshireconcerts.com
END:VEVENT
BEGIN:VEVENT
DTSTART;TZID=Europe/London:20260530T110000
DTEND;TZID=Europe/London:20260530T120000
DTSTAMP:20260425T125034
CREATED:20260422T135457Z
LAST-MODIFIED:20260422T135457Z
UID:35727-1780138800-1780142400@www.discoverknutsford.com
SUMMARY:LOVE YOUR LOCAL MARKET | Meet Mira
DESCRIPTION:Meet K Pop Demon Hunter Mira in the Market!
URL:https://www.discoverknutsford.com/event/love-your-local-market-meet-mira/
LOCATION:Knutsford Market Hall\, Silk Mill Street\, Knutsford\, Cheshire\, WA16 6DF\, United Kingdom
CATEGORIES:Community,Family
ATTACH;FMTTYPE=image/jpeg:https://www.discoverknutsford.com/wp-content/uploads/2026/04/k-Pop.jpg
ORGANIZER;CN="Knutsford Market Hall":MAILTO:hello@knutsfordmarket.co.uk
END:VEVENT
BEGIN:VEVENT
DTSTART;TZID=Europe/London:20260606T190000
DTEND;TZID=Europe/London:20260606T220000
DTSTAMP:20260425T125034
CREATED:20260402T134045Z
LAST-MODIFIED:20260402T134045Z
UID:35535-1780772400-1780783200@www.discoverknutsford.com
SUMMARY:KNUTSFORD MUSIC FESTIVAL | Country Music Night
DESCRIPTION:The Country Collective\nSat 6 Jun 2026 7:00 PM – 10:00 PM BST\n\nJake O’Neill Live at Knutsford Music Festival – UK Country Rising Star \nJake O’Neill is one of the UK’s fastest-rising country music artists\, hailing from Burscough\, Lancashire\, and quickly making waves across the British country music scene. Known for his soulful vocals\, heartfelt songwriting\, and captivating live performances\, Jake blends classic country storytelling with a fresh\, modern sound that connects with both traditional country fans and new audiences alike. \nA multi-nominee at the British Country Music Awards\, including Best Male Artist\, Jake O’Neill is fast becoming a must-see act for fans of country music near Manchester. His songs draw on personal experiences and rich country traditions\, delivering authentic\, relatable stories with emotional depth and a contemporary edge. \nPerforming live at Knutsford Music Festival\, one of the standout live music events in Cheshire\, Jake O’Neill promises an unforgettable set full of passion\, energy\, and genuine connection. \nSupporting Jake are Outpost Drive\, the electrifying transatlantic duo where the American South meets England in a powerful fusion of sound. Formed by Mobile\, Alabama’s Mary Bragg Robinson and England’s Willow Robinson\, Outpost Drive deliver a unique blend of Southern grit\, soaring harmonies\, and cinematic guitar work. Their dynamic chemistry creates a raw\, modern country-rock sound that feels both timeless and cutting-edge—perfect for fans searching for live country music in Cheshire and gigs near Manchester. \nDon’t miss this incredible night of live country music at Knutsford Music Festival — secure your tickets now and experience two of the most exciting acts in the UK country scene.
URL:https://www.discoverknutsford.com/event/knutsford-music-festival-country-music-night/
LOCATION:St Johns Church\, Church Hill\, Knutsford\, Cheshire\, WA16 6DH\, United Kingdom
ATTACH;FMTTYPE=image/jpeg:https://www.discoverknutsford.com/wp-content/uploads/2026/04/1.jpg
END:VEVENT
BEGIN:VEVENT
DTSTART;TZID=Europe/London:20260607T183000
DTEND;TZID=Europe/London:20260607T220000
DTSTAMP:20260425T125034
CREATED:20260407T135536Z
LAST-MODIFIED:20260407T135536Z
UID:35564-1780857000-1780869600@www.discoverknutsford.com
SUMMARY:KNUTSFORD MUSIC FESTIVAL | Latino Sounds and Dancing!
DESCRIPTION:Join us at Knutsford Market Hall for a fun\, welcoming evening of Salsa Cubana\, live Latin music and social dancing. \nWhether you’re coming on your own\, with friends or as a couple\, this event is all about enjoying great music\, meeting new people\, and having fun in a welcoming atmosphere. The evening will feature live performances of Salsa\, Bachata\, Cha Cha and other Latin styles\, bringing the vibrant rhythms and sounds of Cuba to the heart of Knutsford. \nNo previous dance experience is needed. Throughout the evening there will be short and informal dance sessions to help you get started\, along with plenty of time to dance at your own pace\, watch from the side lines\, or simply enjoy the music. There will also be performances from professional dancers\, offering a chance to see the styles up close and get inspired. Salsa Dance Cheshire will be showcasing and teaching moves to suit all levels. \nWith a licensed bar and snack available to purchase on the night\, it’s an easy-going and enjoyable way to spend an evening at the Market Hall\, whether you’re there to dance\, listen\, or soak up the atmosphere. \nPlease note: \nSeating will be available throughout the evening\, but this is primarily a immersive\, social event rather than a seated concert and therefore people may need to stand.
URL:https://www.discoverknutsford.com/event/knutsford-music-festival-latino-sounds-and-dancing/
LOCATION:Knutsford Market Hall\, Silk Mill Street\, Knutsford\, Cheshire East\, WA16 6DF\, United Kingdom
CATEGORIES:Entertainment,Family,Live Music
ATTACH;FMTTYPE=image/jpeg:https://www.discoverknutsford.com/wp-content/uploads/2026/04/wayvnca86jf5d7mmukn8.jpg
END:VEVENT
BEGIN:VEVENT
DTSTART;VALUE=DATE:20260711
DTEND;VALUE=DATE:20260712
DTSTAMP:20260425T125034
CREATED:20260121T103217Z
LAST-MODIFIED:20260121T103336Z
UID:34755-1783728000-1783814399@www.discoverknutsford.com
SUMMARY:COMMUNITY | Movies on the Moor
DESCRIPTION:Enjoy an unforgettable evening at Movies on the Moor\, Knutsford’s open air cinema event! Bring your picnic blanket and settle in for a film or two under the sky.
URL:https://www.discoverknutsford.com/event/movies-on-the-moor/
LOCATION:Knutsford\, Council Offices\, Knutsford\, Cheshire\, WA16 6TA\, United Kingdom
CATEGORIES:Community,Entertainment,Family
ATTACH;FMTTYPE=image/jpeg:https://www.discoverknutsford.com/wp-content/uploads/2026/01/FC68C3CA-9F08-4914-84BF-71CD92D0F646.jpeg
ORGANIZER;CN="Knutsford Town Council":MAILTO:enquiries@knutsfordtowncouncil.gov.uk
END:VEVENT
END:VCALENDAR