BEGIN:VCALENDAR
VERSION:2.0
PRODID:-//Discover Knutsford - ECPv6.15.20//NONSGML v1.0//EN
CALSCALE:GREGORIAN
METHOD:PUBLISH
X-WR-CALNAME:Discover Knutsford
X-ORIGINAL-URL:https://www.discoverknutsford.com
X-WR-CALDESC:Events for Discover Knutsford
REFRESH-INTERVAL;VALUE=DURATION:PT1H
X-Robots-Tag:noindex
X-PUBLISHED-TTL:PT1H
BEGIN:VTIMEZONE
TZID:Europe/London
BEGIN:DAYLIGHT
TZOFFSETFROM:+0000
TZOFFSETTO:+0100
TZNAME:BST
DTSTART:20250330T010000
END:DAYLIGHT
BEGIN:STANDARD
TZOFFSETFROM:+0100
TZOFFSETTO:+0000
TZNAME:GMT
DTSTART:20251026T010000
END:STANDARD
BEGIN:DAYLIGHT
TZOFFSETFROM:+0000
TZOFFSETTO:+0100
TZNAME:BST
DTSTART:20260329T010000
END:DAYLIGHT
BEGIN:STANDARD
TZOFFSETFROM:+0100
TZOFFSETTO:+0000
TZNAME:GMT
DTSTART:20261025T010000
END:STANDARD
BEGIN:DAYLIGHT
TZOFFSETFROM:+0000
TZOFFSETTO:+0100
TZNAME:BST
DTSTART:20270328T010000
END:DAYLIGHT
BEGIN:STANDARD
TZOFFSETFROM:+0100
TZOFFSETTO:+0000
TZNAME:GMT
DTSTART:20271031T010000
END:STANDARD
END:VTIMEZONE
BEGIN:VEVENT
DTSTART;VALUE=DATE:20260403
DTEND;VALUE=DATE:20260404
DTSTAMP:20260425T142803
CREATED:20260227T160014Z
LAST-MODIFIED:20260227T160014Z
UID:35095-1775174400-1775260799@www.discoverknutsford.com
SUMMARY:WILDLIFE | Gauntlet Birds of Preys 30th Birthday
DESCRIPTION:🦅 We’re Turning 30! 🎉 \nCelebrate 30 Years of Our Bird of Prey Centre With Us \nThis year marks a very special milestone — our 30th Birthday — and we would love for you to join us for a fantastic day of celebration! \nFor three decades we’ve been flying\, educating\, conserving and sharing our passion for birds of prey\, and this birthday event is our way of saying thank you to all of you who have supported us along the way. \nJoin us for a full day of fun\, flying displays\, food\, and family activities!\n🎟 Event Details\nDoors Open: 11:00am\nLast Entry: 3:00pm\nEvent Closes: 5:00pm\n🦅 Flying Displays & Talks\nWe’ll be running all four of our shows throughout the day:\n12:00pm – Vulture Talk\nLearn about these incredible and misunderstood giants of the sky.\n12:30pm – Main Flying Show\nExperience the power and precision of our birds in action.\n2:00pm – Meet & Greet with the Brainy Birds\nGet up close and discover just how intelligent our feathered friends really are.\n3:00pm – Grand Finale Flying Show: “Taking Flight”\nA spectacular show with over 30 birds in the air\n🍔 Food & Extras\n🔥 A delicious BBQ\n🍕 A special pizza pop-up with Cheshire Dough\n🦎 Our reptile house open to explore\n🎟 A birthday raffle\n🎉 And plenty of extra fun throughout the day!\nWhether you’ve been visiting us for years or it’s your very first time\, we can’t wait to celebrate this incredible milestone with you. \nCome and be part of our story — 30 years in the making.
URL:https://www.discoverknutsford.com/event/wildlife-gauntlet-birds-of-preys-30th-birthday/
LOCATION:Gauntlet Birds of Prey\, Manchester Road\, Knutsford\, WA16 0SX\, United Kingdom
CATEGORIES:Community,Family,Food and Drink,Wildlife
ATTACH;FMTTYPE=image/jpeg:https://www.discoverknutsford.com/wp-content/uploads/2026/02/great-grey-owl-at-gauntlet-birds-of-prey.jpg
ORGANIZER;CN="Gauntlet Birds of Prey":MAILTO:enquiries@gauntletbirdsofprey.co.uk
END:VEVENT
END:VCALENDAR