BEGIN:VCALENDAR
VERSION:2.0
PRODID:-//Discover Knutsford - ECPv6.15.20//NONSGML v1.0//EN
CALSCALE:GREGORIAN
METHOD:PUBLISH
X-WR-CALNAME:Discover Knutsford
X-ORIGINAL-URL:https://www.discoverknutsford.com
X-WR-CALDESC:Events for Discover Knutsford
REFRESH-INTERVAL;VALUE=DURATION:PT1H
X-Robots-Tag:noindex
X-PUBLISHED-TTL:PT1H
BEGIN:VTIMEZONE
TZID:Europe/London
BEGIN:DAYLIGHT
TZOFFSETFROM:+0000
TZOFFSETTO:+0100
TZNAME:BST
DTSTART:20250330T010000
END:DAYLIGHT
BEGIN:STANDARD
TZOFFSETFROM:+0100
TZOFFSETTO:+0000
TZNAME:GMT
DTSTART:20251026T010000
END:STANDARD
BEGIN:DAYLIGHT
TZOFFSETFROM:+0000
TZOFFSETTO:+0100
TZNAME:BST
DTSTART:20260329T010000
END:DAYLIGHT
BEGIN:STANDARD
TZOFFSETFROM:+0100
TZOFFSETTO:+0000
TZNAME:GMT
DTSTART:20261025T010000
END:STANDARD
BEGIN:DAYLIGHT
TZOFFSETFROM:+0000
TZOFFSETTO:+0100
TZNAME:BST
DTSTART:20270328T010000
END:DAYLIGHT
BEGIN:STANDARD
TZOFFSETFROM:+0100
TZOFFSETTO:+0000
TZNAME:GMT
DTSTART:20271031T010000
END:STANDARD
END:VTIMEZONE
BEGIN:VEVENT
DTSTART;TZID=Europe/London:20260317T120000
DTEND;TZID=Europe/London:20260317T230000
DTSTAMP:20260425T124151
CREATED:20260224T154805Z
LAST-MODIFIED:20260224T154848Z
UID:35068-1773748800-1773788400@www.discoverknutsford.com
SUMMARY:ENTERTAINMENT | St Patricks Day at Patricks Irish Pub!
DESCRIPTION:Preparations for St Patrick’s Day has started….. we can’t wait   \nWe will be open from 12pm – Live music all day!
URL:https://www.discoverknutsford.com/event/entertainment-st-patricks-day-at-patricks-irish-pub/
LOCATION:Patricks Irish Bar\, 50 King Street\, WA16 6DT\, United Kingdom
CATEGORIES:Entertainment,Food and Drink
ATTACH;FMTTYPE=image/png:https://www.discoverknutsford.com/wp-content/uploads/2026/02/St-Patricks-Day-e1771948041520.png
END:VEVENT
END:VCALENDAR