BEGIN:VCALENDAR
VERSION:2.0
PRODID:-//Discover Knutsford - ECPv6.15.20//NONSGML v1.0//EN
CALSCALE:GREGORIAN
METHOD:PUBLISH
X-ORIGINAL-URL:https://www.discoverknutsford.com
X-WR-CALDESC:Events for Discover Knutsford
REFRESH-INTERVAL;VALUE=DURATION:PT1H
X-Robots-Tag:noindex
X-PUBLISHED-TTL:PT1H
BEGIN:VTIMEZONE
TZID:Europe/London
BEGIN:DAYLIGHT
TZOFFSETFROM:+0000
TZOFFSETTO:+0100
TZNAME:BST
DTSTART:20250330T010000
END:DAYLIGHT
BEGIN:STANDARD
TZOFFSETFROM:+0100
TZOFFSETTO:+0000
TZNAME:GMT
DTSTART:20251026T010000
END:STANDARD
BEGIN:DAYLIGHT
TZOFFSETFROM:+0000
TZOFFSETTO:+0100
TZNAME:BST
DTSTART:20260329T010000
END:DAYLIGHT
BEGIN:STANDARD
TZOFFSETFROM:+0100
TZOFFSETTO:+0000
TZNAME:GMT
DTSTART:20261025T010000
END:STANDARD
BEGIN:DAYLIGHT
TZOFFSETFROM:+0000
TZOFFSETTO:+0100
TZNAME:BST
DTSTART:20270328T010000
END:DAYLIGHT
BEGIN:STANDARD
TZOFFSETFROM:+0100
TZOFFSETTO:+0000
TZNAME:GMT
DTSTART:20271031T010000
END:STANDARD
END:VTIMEZONE
BEGIN:VEVENT
DTSTART;TZID=Europe/London:20260604T190000
DTEND;TZID=Europe/London:20260604T220000
DTSTAMP:20260425T125013
CREATED:20260401T130048Z
LAST-MODIFIED:20260401T130048Z
UID:35522-1780599600-1780610400@www.discoverknutsford.com
SUMMARY:KNUTSFORD MUSIC FESTIVAL | Mark Radcliffe Presents... The Rip Roaring Success
DESCRIPTION:4th June | Knutsford Little Theatre \nChester based Western swing band The Rip Roaring Success are the hottest band east of El Paso. It features Wild Miss Lucille on double bass\, Miss Jay on the fiddle and the hillbilly vocalist Rusty on the six string flaming guitar. Folk at venues and festivals up and down the country will testify that when you want the prairie set on fire with jumpin’ ho-down tunes then there ain’t no success like a rip roarin’ one. \nRip Roaring Success will be supported by The Rye Sisters.  \nThe Rye Sisters are a Lincolnshire-based Americana/folk-country duo celebrated for their beautiful close harmonies and heartfelt songwriting. Blending country\, bluegrass and contemporary folk\, their performances feature rich vocals\, guitar and fiddle\, delivering uplifting originals and soulful interpretations that captivate audiences across the UK.
URL:https://www.discoverknutsford.com/event/knutsford-music-festival-mark-radcliffe-presents-the-rip-roaring-success/
LOCATION:Knutsford Little Theatre\, Queen Street\, Knutsford\, WA16 6HZ\, United Kingdom
CATEGORIES:Entertainment,Live Music
ATTACH;FMTTYPE=image/jpeg:https://www.discoverknutsford.com/wp-content/uploads/2026/04/oxhs1lxzm0xkqyfjuqlt-e1775048334186.jpg
END:VEVENT
BEGIN:VEVENT
DTSTART;TZID=Europe/London:20260605T190000
DTEND;TZID=Europe/London:20260605T220000
DTSTAMP:20260425T125013
CREATED:20260402T131316Z
LAST-MODIFIED:20260402T131316Z
UID:35529-1780686000-1780696800@www.discoverknutsford.com
SUMMARY:KNUTSFORD MUSIC FESTIVAL | Mark Radcliffe presents... Ranagri
DESCRIPTION:Mark Radcliffe presents… Ranagri\n\n\n\n\n5th June | St John’s Church \n\n\nRanagri is a dynamic contemporary folk band that blends traditional Irish and British roots with modern influences and world music textures. Known for their innovative instrumentation\, they fuse voices\, harp\, flutes\, guitar and percussion to create a sound that is both deeply rooted in folk traditions and refreshingly original. \nTheir music is characterized by intricate vocal harmonies\, rhythmic energy\, and evocative storytelling that explores themes ranging from mythology to social and environmental issues. With a reputation for captivating live performances\, Ranagri has played at major festivals and venues across Europe
URL:https://www.discoverknutsford.com/event/knutsford-music-festival-mark-radcliffe-presents-ranagri/
LOCATION:St John’s Church\, Church Hill\, Knutsford\, United Kingdom
CATEGORIES:Entertainment,Live Music
ATTACH;FMTTYPE=image/jpeg:https://www.discoverknutsford.com/wp-content/uploads/2026/03/ranagri.jpg
END:VEVENT
BEGIN:VEVENT
DTSTART;TZID=Europe/London:20260606T130000
DTEND;TZID=Europe/London:20260606T170000
DTSTAMP:20260425T125013
CREATED:20260402T131714Z
LAST-MODIFIED:20260402T131714Z
UID:35532-1780750800-1780765200@www.discoverknutsford.com
SUMMARY:KNUTSFORD MUSIC FESTIVAL | Music on the Moor - Free Event!
DESCRIPTION:A free outdoor event with live music\, craft and dance workshops\, local vendors\, and family activities\, offering a day of community fun and great performances. \nGrab a drink\, a picnic\, and enjoy live music out in the sunshine!
URL:https://www.discoverknutsford.com/event/knutsford-music-festival-music-on-the-moor-free-event/
LOCATION:The Moor\, The Moor\, Moorside\,\, Knutsford\, Cheshire\, WA16 6ES\, United Kingdom
CATEGORIES:Family,Food and Drink,Live Music
ATTACH;FMTTYPE=image/jpeg:https://www.discoverknutsford.com/wp-content/uploads/2026/04/music-on-the-moor-672x430-1.jpg
END:VEVENT
BEGIN:VEVENT
DTSTART;TZID=Europe/London:20260607T183000
DTEND;TZID=Europe/London:20260607T220000
DTSTAMP:20260425T125013
CREATED:20260407T135536Z
LAST-MODIFIED:20260407T135536Z
UID:35564-1780857000-1780869600@www.discoverknutsford.com
SUMMARY:KNUTSFORD MUSIC FESTIVAL | Latino Sounds and Dancing!
DESCRIPTION:Join us at Knutsford Market Hall for a fun\, welcoming evening of Salsa Cubana\, live Latin music and social dancing. \nWhether you’re coming on your own\, with friends or as a couple\, this event is all about enjoying great music\, meeting new people\, and having fun in a welcoming atmosphere. The evening will feature live performances of Salsa\, Bachata\, Cha Cha and other Latin styles\, bringing the vibrant rhythms and sounds of Cuba to the heart of Knutsford. \nNo previous dance experience is needed. Throughout the evening there will be short and informal dance sessions to help you get started\, along with plenty of time to dance at your own pace\, watch from the side lines\, or simply enjoy the music. There will also be performances from professional dancers\, offering a chance to see the styles up close and get inspired. Salsa Dance Cheshire will be showcasing and teaching moves to suit all levels. \nWith a licensed bar and snack available to purchase on the night\, it’s an easy-going and enjoyable way to spend an evening at the Market Hall\, whether you’re there to dance\, listen\, or soak up the atmosphere. \nPlease note: \nSeating will be available throughout the evening\, but this is primarily a immersive\, social event rather than a seated concert and therefore people may need to stand.
URL:https://www.discoverknutsford.com/event/knutsford-music-festival-latino-sounds-and-dancing/
LOCATION:Knutsford Market Hall\, Silk Mill Street\, Knutsford\, Cheshire East\, WA16 6DF\, United Kingdom
CATEGORIES:Entertainment,Family,Live Music
ATTACH;FMTTYPE=image/jpeg:https://www.discoverknutsford.com/wp-content/uploads/2026/04/wayvnca86jf5d7mmukn8.jpg
END:VEVENT
BEGIN:VEVENT
DTSTART;TZID=Europe/London:20260627T150000
DTEND;TZID=Europe/London:20260627T170000
DTSTAMP:20260425T125013
CREATED:20260311T121645Z
LAST-MODIFIED:20260311T121645Z
UID:35233-1782572400-1782579600@www.discoverknutsford.com
SUMMARY:ENTERTAINMENT | Ibiza Classics Bottomless Brunch!
DESCRIPTION:Back by popular demand for the 4th year running… our iconic Ibiza Classic Bottomless Brunch returns this summer! \nJoin us from 3PM to 5PM for an unforgettable afternoon of music\, food and free-flowing drinks. Live Music will start approximately 4pm \nWhat to expect: \n– A stunning live performance by Holly Ellison (as seen on ITV’s The Voice)\n– Accompanied by a live sax player\, delivering all your favourite Ibiza Dance Classics\n– 2 hours of bottomless drinks\n– A delicious brunch dish of your choice from our pre-order menu \nFeel-good vibes from start to finish \nBe quick to book – this one sells out FAST. Link below.
URL:https://www.discoverknutsford.com/event/entertainment-ibiza-classics-bottomless-brunch/
LOCATION:Lost and Found\, Princess Street\, Knutsford\, WA16 6BY\, United Kingdom
CATEGORIES:Entertainment
ATTACH;FMTTYPE=image/png:https://www.discoverknutsford.com/wp-content/uploads/2026/03/Ibiza-Instagram-Post-e1773231350569.png
ORGANIZER;CN="The Lost and Found Knutsford":MAILTO:knutsfordevents@the-lostandfound.com
END:VEVENT
END:VCALENDAR