BEGIN:VCALENDAR
VERSION:2.0
PRODID:-//Discover Knutsford - ECPv6.15.20//NONSGML v1.0//EN
CALSCALE:GREGORIAN
METHOD:PUBLISH
X-WR-CALNAME:Discover Knutsford
X-ORIGINAL-URL:https://www.discoverknutsford.com
X-WR-CALDESC:Events for Discover Knutsford
REFRESH-INTERVAL;VALUE=DURATION:PT1H
X-Robots-Tag:noindex
X-PUBLISHED-TTL:PT1H
BEGIN:VTIMEZONE
TZID:Europe/London
BEGIN:DAYLIGHT
TZOFFSETFROM:+0000
TZOFFSETTO:+0100
TZNAME:BST
DTSTART:20240331T010000
END:DAYLIGHT
BEGIN:STANDARD
TZOFFSETFROM:+0100
TZOFFSETTO:+0000
TZNAME:GMT
DTSTART:20241027T010000
END:STANDARD
BEGIN:DAYLIGHT
TZOFFSETFROM:+0000
TZOFFSETTO:+0100
TZNAME:BST
DTSTART:20250330T010000
END:DAYLIGHT
BEGIN:STANDARD
TZOFFSETFROM:+0100
TZOFFSETTO:+0000
TZNAME:GMT
DTSTART:20251026T010000
END:STANDARD
BEGIN:DAYLIGHT
TZOFFSETFROM:+0000
TZOFFSETTO:+0100
TZNAME:BST
DTSTART:20260329T010000
END:DAYLIGHT
BEGIN:STANDARD
TZOFFSETFROM:+0100
TZOFFSETTO:+0000
TZNAME:GMT
DTSTART:20261025T010000
END:STANDARD
END:VTIMEZONE
BEGIN:VEVENT
DTSTART;TZID=Europe/London:20251128T200000
DTEND;TZID=Europe/London:20251219T230000
DTSTAMP:20260425T153603
CREATED:20251022T112739Z
LAST-MODIFIED:20251022T112739Z
UID:34248-1764360000-1766185200@www.discoverknutsford.com
SUMMARY:ENTERTAINMENT | Clock out for Christmas Party Nights!
DESCRIPTION:Clock Out for Christmas – Party nights!\nClock Out for Christmas @ The Lost and Found! \nOur festive party nights are back and better than ever at one of Knutsford’s most stylish venues. \nDates: Nov 28\, Dec 5\, 11\, 18 & 19 \nEnjoy a 3-course dinner\, live DJ\, festive decor\, and optional drinks packages. \n£41 per person with a £10 deposit to book. Full payment and pre-orders due 2 weeks before. \nDeposits are non-refundable. Perfect for office parties or friends’ celebrations. Book now—spaces fill fast!
URL:https://www.discoverknutsford.com/event/entertainment-clock-out-for-christmas-party-nights/
LOCATION:Lost and Found\, Princess Street\, Knutsford\, WA16 6BY\, United Kingdom
CATEGORIES:Christmas,Entertainment,Food and Drink
ATTACH;FMTTYPE=image/jpeg:https://www.discoverknutsford.com/wp-content/uploads/2024/10/lost-found-Christmas.jpg
ORGANIZER;CN="Lost and Found":MAILTO:knutsford@the-lostandfound.com
END:VEVENT
BEGIN:VEVENT
DTSTART;TZID=Europe/London:20251206T190000
DTEND;TZID=Europe/London:20251206T220000
DTSTAMP:20260425T153603
CREATED:20251127T100020Z
LAST-MODIFIED:20251127T100020Z
UID:34427-1765047600-1765058400@www.discoverknutsford.com
SUMMARY:ARTS & CRAFTS | BYOB Pottery Painting Evening at Knutcraft
DESCRIPTION:Enjoy an evening in our cosy relaxed studio\, a great way to catch up with friends\, indulge in a date-night or spend some you-time away from the kids  \nSaturday 6th December – 19:00-22.00 \n£5 plus the price of your chosen pottery… book here https://www.knutcraft.co.uk/events
URL:https://www.discoverknutsford.com/event/arts-crafts-byob-pottery-painting-evening-at-knutcraft/
LOCATION:Knutcraft\, Ruskin Chambers\, Drury Lane\, Knutsford\, Cheshire\, WA16 6HA\, United Kingdom
CATEGORIES:Arts & Crafts,Entertainment,Food and Drink
ATTACH;FMTTYPE=image/jpeg:https://www.discoverknutsford.com/wp-content/uploads/2025/11/Painting.jpg
ORGANIZER;CN="Knutcraft":MAILTO:helen@knutcraft.co.uk
END:VEVENT
BEGIN:VEVENT
DTSTART;TZID=Europe/London:20251212T183000
DTEND;TZID=Europe/London:20251212T203000
DTSTAMP:20260425T153603
CREATED:20251127T101309Z
LAST-MODIFIED:20251127T101309Z
UID:34437-1765564200-1765571400@www.discoverknutsford.com
SUMMARY:ARTS & CRAFTS | Silver Ring Workshop
DESCRIPTION:Immerse yourself in an evening of creativity! No experience required\, all materials included age 16+ \nJoin Hannah\, a highly trained creative jewellery designer\, maker\, repairer and teacher from Knutsford\, for a workshop where you will design and make your very own silver ring to take home on the day \nDesign and create a unique silver ring  enjoy some you-time\, with indulgent festive hot drinks and sweet treats included or BYOB! Perfect as a Christmas gift to yourself or someone else… book a spot here: https://www.knutcraft.co.uk/events
URL:https://www.discoverknutsford.com/event/arts-crafts-silver-ring-workshop/
LOCATION:Knutcraft\, Ruskin Chambers\, Drury Lane\, Knutsford\, Cheshire\, WA16 6HA\, United Kingdom
CATEGORIES:Arts & Crafts,Christmas,Entertainment,Food and Drink
ATTACH;FMTTYPE=image/jpeg:https://www.discoverknutsford.com/wp-content/uploads/2025/11/Silver-Ring.jpg
ORGANIZER;CN="Knutcraft":MAILTO:helen@knutcraft.co.uk
END:VEVENT
BEGIN:VEVENT
DTSTART;TZID=Europe/London:20251213T120000
DTEND;TZID=Europe/London:20251220T180000
DTSTAMP:20260425T153603
CREATED:20251015T113439Z
LAST-MODIFIED:20251015T113439Z
UID:34107-1765627200-1766253600@www.discoverknutsford.com
SUMMARY:CHRISTMAS | The Lost and Found's Very Merry Saturdays!
DESCRIPTION:This Christmas\, we’re letting Bad Santa loose on the decks – expect cheeky tunes\, festive fun\, and a party like no other from 12:30pm – 6pm! \nChoose your celebration:\nFestive Bottomless Brunch (£38.50pp)\nFestive Set Menu (£41.00pp) or Regular Dining \nTwo dates:\nSaturday 13th December\nSaturday 20th December \nEarliest booking 12pm / Last booking at 4pm \nBad Santa\, good times\, and plenty of festive party vibes – don’t miss it!
URL:https://www.discoverknutsford.com/event/christmas-the-lost-and-founds-very-merry-saturdays/
LOCATION:Lost and Found\, Princess Street\, Knutsford\, WA16 6BY\, United Kingdom
CATEGORIES:Christmas,Entertainment,Food and Drink,Live Music
ATTACH;FMTTYPE=image/jpeg:https://www.discoverknutsford.com/wp-content/uploads/2024/12/Santa-2-1.jpg
END:VEVENT
BEGIN:VEVENT
DTSTART;TZID=Europe/London:20251221T093000
DTEND;TZID=Europe/London:20251221T120000
DTSTAMP:20260425T153603
CREATED:20251015T114909Z
LAST-MODIFIED:20251015T114909Z
UID:34072-1766309400-1766318400@www.discoverknutsford.com
SUMMARY:CHRISTMAS | Breakfast with Frozen Friends!
DESCRIPTION:Step into Arendelle this Christmas season and join us for a truly magical morning at The Lost & Found\, Knutsford! \nBring your little ones to meet the enchanting Anna\, the graceful Elsa\, and the lovable Olaf for a festive celebration filled with joy\, laughter\, and holiday spirit. \nStart your adventure with a delicious breakfast — kids can enjoy unlimited juice while adults indulge in unlimited filter tea and coffee\, all served in our beautifully decorated\, cozy Victorian-inspired venue. After breakfast\, the magic continues with a joyful hour of singing beloved Frozen songs\, where children and families can sing along\, dance\, and feel the Christmas spirit come alive. \nFinally\, meet and greet your Frozen friends up close! Snap photos\, share hugs\, and make memories that will warm your heart all season long.\nThis is a perfect festive experience designed to delight the whole family and create lasting Christmas memories\, in the heart of Knutsford. \nDate: Sunday 21st December\nTime: 9.30am\nPrice: £21.50 per person \nSpaces are limited — book now and make this Christmas morning unforgettable at The Lost & Found!
URL:https://www.discoverknutsford.com/event/christmas-breakfast-with-frozen-friends/
LOCATION:Lost and Found\, Princess Street\, Knutsford\, WA16 6BY\, United Kingdom
CATEGORIES:Christmas,Family,Live Music
ATTACH;FMTTYPE=image/png:https://www.discoverknutsford.com/wp-content/uploads/2025/10/Red-Illustrative-Merry-Christmas-Instagram-Post-1.png
ORGANIZER;CN="The Lost and Found Knutsford":MAILTO:knutsfordevents@the-lostandfound.com
END:VEVENT
END:VCALENDAR