BEGIN:VCALENDAR
VERSION:2.0
PRODID:-//Discover Knutsford - ECPv6.15.20//NONSGML v1.0//EN
CALSCALE:GREGORIAN
METHOD:PUBLISH
X-ORIGINAL-URL:https://www.discoverknutsford.com
X-WR-CALDESC:Events for Discover Knutsford
REFRESH-INTERVAL;VALUE=DURATION:PT1H
X-Robots-Tag:noindex
X-PUBLISHED-TTL:PT1H
BEGIN:VTIMEZONE
TZID:Europe/London
BEGIN:DAYLIGHT
TZOFFSETFROM:+0000
TZOFFSETTO:+0100
TZNAME:BST
DTSTART:20240331T010000
END:DAYLIGHT
BEGIN:STANDARD
TZOFFSETFROM:+0100
TZOFFSETTO:+0000
TZNAME:GMT
DTSTART:20241027T010000
END:STANDARD
BEGIN:DAYLIGHT
TZOFFSETFROM:+0000
TZOFFSETTO:+0100
TZNAME:BST
DTSTART:20250330T010000
END:DAYLIGHT
BEGIN:STANDARD
TZOFFSETFROM:+0100
TZOFFSETTO:+0000
TZNAME:GMT
DTSTART:20251026T010000
END:STANDARD
BEGIN:DAYLIGHT
TZOFFSETFROM:+0000
TZOFFSETTO:+0100
TZNAME:BST
DTSTART:20260329T010000
END:DAYLIGHT
BEGIN:STANDARD
TZOFFSETFROM:+0100
TZOFFSETTO:+0000
TZNAME:GMT
DTSTART:20261025T010000
END:STANDARD
END:VTIMEZONE
BEGIN:VEVENT
DTSTART;TZID=Europe/London:20251009T190000
DTEND;TZID=Europe/London:20251009T210000
DTSTAMP:20260425T182256
CREATED:20250925T101418Z
LAST-MODIFIED:20250925T101418Z
UID:34026-1760036400-1760043600@www.discoverknutsford.com
SUMMARY:ENTERTAINMENT | Speed Dating Event
DESCRIPTION:Dexter and Jones have teamed up with Knutsford’s real life Cilla Black\, Sue Cobb\, to bring you our first ever speed dating event!\nEach couple have 3 minutes with questions provided\, if you like someone you just tick their box\, simple!\nTickets are £10 and can be obtained by emailing Suecobb23@msn.com\nThis ensures we have a balance of people likely to get along.\nDexter and Jones will be providing the best beers\, gins and wines throughout the event… not included in price.
URL:https://www.discoverknutsford.com/event/entertainment-speed-dating-event/
LOCATION:Knutsford Market Hall\, Silk Mill Street\, Knutsford\, Cheshire\, WA16 6DF\, United Kingdom
CATEGORIES:Entertainment
ATTACH;FMTTYPE=image/jpeg:https://www.discoverknutsford.com/wp-content/uploads/2025/09/16D9DB7F-56A3-488D-922A-657B727DF4DF.jpeg
ORGANIZER;CN="Brook Street Chapel":MAILTO:brookstreetchapelknutsford@gmail.com
END:VEVENT
BEGIN:VEVENT
DTSTART;TZID=Europe/London:20251025T180000
DTEND;TZID=Europe/London:20251025T223000
DTSTAMP:20260425T182256
CREATED:20251009T144145Z
LAST-MODIFIED:20251009T160237Z
UID:34147-1761415200-1761431400@www.discoverknutsford.com
SUMMARY:FOOD & DRINK | Thai Night at Knutsford Market Hall
DESCRIPTION:Join Thai Kitchen for a celebration of all things Thai! The evening starts at 7pm and includes – \nDemonstration and displays of Thailand’s national sport of Muay Thai\nDJ spinning the best of R&B and 90’s hip hop\nA selection of signature Thai dishes available to purchase throughout the evening\nA chance to win a dream holiday to Koh Samui in partnership with Singa beer \nTickets are £5 and include a welcome drink\, one ticket for the prize draw. Please pop into the market hall on Silk Mill Street each Tuesday\, Thursday\, Friday and Saturday to get your tickets!
URL:https://www.discoverknutsford.com/event/thai-night-at-knutsford-market-hall/
LOCATION:Knutsford Market Hall\, Silk Mill Street\, Knutsford\, Cheshire\, WA16 6DF\, United Kingdom
CATEGORIES:Food and Drink
ATTACH;FMTTYPE=image/jpeg:https://www.discoverknutsford.com/wp-content/uploads/2025/10/0116_knutsford_market-1-scaled.jpg
ORGANIZER;CN="Thai Kitchen":MAILTO:thaikitchenuk87@gmail.com
END:VEVENT
END:VCALENDAR