BEGIN:VCALENDAR
VERSION:2.0
PRODID:-//Discover Knutsford - ECPv6.15.20//NONSGML v1.0//EN
CALSCALE:GREGORIAN
METHOD:PUBLISH
X-WR-CALNAME:Discover Knutsford
X-ORIGINAL-URL:https://www.discoverknutsford.com
X-WR-CALDESC:Events for Discover Knutsford
REFRESH-INTERVAL;VALUE=DURATION:PT1H
X-Robots-Tag:noindex
X-PUBLISHED-TTL:PT1H
BEGIN:VTIMEZONE
TZID:Europe/London
BEGIN:DAYLIGHT
TZOFFSETFROM:+0000
TZOFFSETTO:+0100
TZNAME:BST
DTSTART:20250330T010000
END:DAYLIGHT
BEGIN:STANDARD
TZOFFSETFROM:+0100
TZOFFSETTO:+0000
TZNAME:GMT
DTSTART:20251026T010000
END:STANDARD
BEGIN:DAYLIGHT
TZOFFSETFROM:+0000
TZOFFSETTO:+0100
TZNAME:BST
DTSTART:20260329T010000
END:DAYLIGHT
BEGIN:STANDARD
TZOFFSETFROM:+0100
TZOFFSETTO:+0000
TZNAME:GMT
DTSTART:20261025T010000
END:STANDARD
BEGIN:DAYLIGHT
TZOFFSETFROM:+0000
TZOFFSETTO:+0100
TZNAME:BST
DTSTART:20270328T010000
END:DAYLIGHT
BEGIN:STANDARD
TZOFFSETFROM:+0100
TZOFFSETTO:+0000
TZNAME:GMT
DTSTART:20271031T010000
END:STANDARD
END:VTIMEZONE
BEGIN:VEVENT
DTSTART;VALUE=DATE:20260816
DTEND;VALUE=DATE:20260817
DTSTAMP:20260425T173200
CREATED:20260121T103043Z
LAST-MODIFIED:20260121T103043Z
UID:34750-1786838400-1786924799@www.discoverknutsford.com
SUMMARY:ARTS & CRAFTS | Paint Knutsford
DESCRIPTION:This year\, Knutsford Town Council will host it’s second Paint Knutsford event. An outdoor event taking place in the centre of our beautiful town on Sunday 16th August 2025. A brilliant event whether you are a tourist\, budding artist or professional! \nJoin us in the heart of Knutsford for the ultimate trail of art. Enjoy watching original pieces of art being created in just one day\, and take in all that this wonderful town has to offer. \nOver 30 Artists—both professionals and amateurs—will set up outdoor ‘studios’ around the town\, painting live throughout the day and a trail map will be available guiding you to each artists location so you can watch creations unfold in real time
URL:https://www.discoverknutsford.com/event/arts-crafts-paint-knutsford/
LOCATION:Knutsford\, Council Offices\, Knutsford\, Cheshire\, WA16 6TA\, United Kingdom
CATEGORIES:Community,Live Arts
ATTACH;FMTTYPE=image/jpeg:https://www.discoverknutsford.com/wp-content/uploads/2026/01/Joy-Downing-.jpg
END:VEVENT
END:VCALENDAR