BEGIN:VCALENDAR
VERSION:2.0
PRODID:-//Discover Knutsford - ECPv6.15.20//NONSGML v1.0//EN
CALSCALE:GREGORIAN
METHOD:PUBLISH
X-ORIGINAL-URL:https://www.discoverknutsford.com
X-WR-CALDESC:Events for Discover Knutsford
REFRESH-INTERVAL;VALUE=DURATION:PT1H
X-Robots-Tag:noindex
X-PUBLISHED-TTL:PT1H
BEGIN:VTIMEZONE
TZID:Europe/London
BEGIN:DAYLIGHT
TZOFFSETFROM:+0000
TZOFFSETTO:+0100
TZNAME:BST
DTSTART:20250330T010000
END:DAYLIGHT
BEGIN:STANDARD
TZOFFSETFROM:+0100
TZOFFSETTO:+0000
TZNAME:GMT
DTSTART:20251026T010000
END:STANDARD
BEGIN:DAYLIGHT
TZOFFSETFROM:+0000
TZOFFSETTO:+0100
TZNAME:BST
DTSTART:20260329T010000
END:DAYLIGHT
BEGIN:STANDARD
TZOFFSETFROM:+0100
TZOFFSETTO:+0000
TZNAME:GMT
DTSTART:20261025T010000
END:STANDARD
BEGIN:DAYLIGHT
TZOFFSETFROM:+0000
TZOFFSETTO:+0100
TZNAME:BST
DTSTART:20270328T010000
END:DAYLIGHT
BEGIN:STANDARD
TZOFFSETFROM:+0100
TZOFFSETTO:+0000
TZNAME:GMT
DTSTART:20271031T010000
END:STANDARD
END:VTIMEZONE
BEGIN:VEVENT
DTSTART;TZID=Europe/London:20260406T110000
DTEND;TZID=Europe/London:20260406T160000
DTSTAMP:20260425T112046
CREATED:20260325T105344Z
LAST-MODIFIED:20260325T105344Z
UID:35460-1775473200-1775491200@www.discoverknutsford.com
SUMMARY:SHOPPING | Knutsford Makers Market
DESCRIPTION:Knutsford Makers Market is a staple of this picturesque Cheshire town. With cobbled streets as the backdrop\, visitors enjoy a premium mix of artisan traders\, delicious street food and local entertainment. \nPublic Parking \nTrain: Knutsford – 7 min walk \nBus: Church Hill Stop – 1 min walk \nCycle rack available \nLimited parking nearby
URL:https://www.discoverknutsford.com/event/shopping-knutsford-makers-market-2/
LOCATION:Princess Street\, Knutsford
CATEGORIES:Community,Food and Drink,Market
ATTACH;FMTTYPE=image/jpeg:https://www.discoverknutsford.com/wp-content/uploads/2024/06/Knutsford-Makers-Market-Princess-Street.jpg
END:VEVENT
END:VCALENDAR