BEGIN:VCALENDAR
VERSION:2.0
PRODID:-//Discover Knutsford - ECPv6.15.20//NONSGML v1.0//EN
CALSCALE:GREGORIAN
METHOD:PUBLISH
X-WR-CALNAME:Discover Knutsford
X-ORIGINAL-URL:https://www.discoverknutsford.com
X-WR-CALDESC:Events for Discover Knutsford
REFRESH-INTERVAL;VALUE=DURATION:PT1H
X-Robots-Tag:noindex
X-PUBLISHED-TTL:PT1H
BEGIN:VTIMEZONE
TZID:Europe/London
BEGIN:DAYLIGHT
TZOFFSETFROM:+0000
TZOFFSETTO:+0100
TZNAME:BST
DTSTART:20250330T010000
END:DAYLIGHT
BEGIN:STANDARD
TZOFFSETFROM:+0100
TZOFFSETTO:+0000
TZNAME:GMT
DTSTART:20251026T010000
END:STANDARD
BEGIN:DAYLIGHT
TZOFFSETFROM:+0000
TZOFFSETTO:+0100
TZNAME:BST
DTSTART:20260329T010000
END:DAYLIGHT
BEGIN:STANDARD
TZOFFSETFROM:+0100
TZOFFSETTO:+0000
TZNAME:GMT
DTSTART:20261025T010000
END:STANDARD
BEGIN:DAYLIGHT
TZOFFSETFROM:+0000
TZOFFSETTO:+0100
TZNAME:BST
DTSTART:20270328T010000
END:DAYLIGHT
BEGIN:STANDARD
TZOFFSETFROM:+0100
TZOFFSETTO:+0000
TZNAME:GMT
DTSTART:20271031T010000
END:STANDARD
END:VTIMEZONE
BEGIN:VEVENT
DTSTART;TZID=Europe/London:20260423T080000
DTEND;TZID=Europe/London:20260712T170000
DTSTAMP:20260425T143611
CREATED:20260424T135101Z
LAST-MODIFIED:20260424T135101Z
UID:35734-1776931200-1783875600@www.discoverknutsford.com
SUMMARY:MAYOR EVENT | Mayor of Knutsford Civic Sunday
DESCRIPTION:Join the Mayor of Knutsford for a short parade around the streets of Knutsford. \nLed by a brass band\, the parade assembles at King Street Car Park at 11:45am\, before making its way to Knutsford Market Hall. \nComplimentary refreshments will be served in the market from 12pm. \nAll welcome for all or part of the event.
URL:https://www.discoverknutsford.com/event/mayor-event-mayor-of-knutsford-civic-sunday/
LOCATION:Knutsford Market Hall\, Silk Mill Street\, Knutsford\, Cheshire East\, WA16 6DF\, United Kingdom
CATEGORIES:Community
ATTACH;FMTTYPE=image/jpeg:https://www.discoverknutsford.com/wp-content/uploads/2026/04/Silver-Band-Image-rotated-e1777038639506.jpg
END:VEVENT
BEGIN:VEVENT
DTSTART;VALUE=DATE:20260711
DTEND;VALUE=DATE:20260712
DTSTAMP:20260425T143611
CREATED:20260121T103217Z
LAST-MODIFIED:20260121T103336Z
UID:34755-1783728000-1783814399@www.discoverknutsford.com
SUMMARY:COMMUNITY | Movies on the Moor
DESCRIPTION:Enjoy an unforgettable evening at Movies on the Moor\, Knutsford’s open air cinema event! Bring your picnic blanket and settle in for a film or two under the sky.
URL:https://www.discoverknutsford.com/event/movies-on-the-moor/
LOCATION:Knutsford\, Council Offices\, Knutsford\, Cheshire\, WA16 6TA\, United Kingdom
CATEGORIES:Community,Entertainment,Family
ATTACH;FMTTYPE=image/jpeg:https://www.discoverknutsford.com/wp-content/uploads/2026/01/FC68C3CA-9F08-4914-84BF-71CD92D0F646.jpeg
ORGANIZER;CN="Knutsford Town Council":MAILTO:enquiries@knutsfordtowncouncil.gov.uk
END:VEVENT
BEGIN:VEVENT
DTSTART;TZID=Europe/London:20260726T120000
DTEND;TZID=Europe/London:20260726T160000
DTSTAMP:20260425T143611
CREATED:20260121T103834Z
LAST-MODIFIED:20260121T103903Z
UID:34760-1785067200-1785081600@www.discoverknutsford.com
SUMMARY:COMMUNITY | Picnic in the Park
DESCRIPTION:Join us for an afternoon of fun\, food\, and festivities at St Helena’s Field\, Longridge from 12–4pm for our free community celebration \nResidents are invited to gather their friends and family\, a blanket and chairs to enjoy a free day out. \nA barbecue and bar will be available.
URL:https://www.discoverknutsford.com/event/community-picnic-in-the-park-2/
LOCATION:St Helenas Field\, Longridge\, Knutsford\, Cheshire\, WA16 8PA\, United Kingdom
CATEGORIES:Community,Family
ATTACH;FMTTYPE=image/avif:https://www.discoverknutsford.com/wp-content/uploads/2026/01/Picnic.avif
ORGANIZER;CN="Knutsford Town Council":MAILTO:enquiries@knutsfordtowncouncil.gov.uk
END:VEVENT
END:VCALENDAR