BEGIN:VCALENDAR
VERSION:2.0
PRODID:-//Discover Knutsford - ECPv6.15.20//NONSGML v1.0//EN
CALSCALE:GREGORIAN
METHOD:PUBLISH
X-WR-CALNAME:Discover Knutsford
X-ORIGINAL-URL:https://www.discoverknutsford.com
X-WR-CALDESC:Events for Discover Knutsford
REFRESH-INTERVAL;VALUE=DURATION:PT1H
X-Robots-Tag:noindex
X-PUBLISHED-TTL:PT1H
BEGIN:VTIMEZONE
TZID:Europe/London
BEGIN:DAYLIGHT
TZOFFSETFROM:+0000
TZOFFSETTO:+0100
TZNAME:BST
DTSTART:20250330T010000
END:DAYLIGHT
BEGIN:STANDARD
TZOFFSETFROM:+0100
TZOFFSETTO:+0000
TZNAME:GMT
DTSTART:20251026T010000
END:STANDARD
BEGIN:DAYLIGHT
TZOFFSETFROM:+0000
TZOFFSETTO:+0100
TZNAME:BST
DTSTART:20260329T010000
END:DAYLIGHT
BEGIN:STANDARD
TZOFFSETFROM:+0100
TZOFFSETTO:+0000
TZNAME:GMT
DTSTART:20261025T010000
END:STANDARD
BEGIN:DAYLIGHT
TZOFFSETFROM:+0000
TZOFFSETTO:+0100
TZNAME:BST
DTSTART:20270328T010000
END:DAYLIGHT
BEGIN:STANDARD
TZOFFSETFROM:+0100
TZOFFSETTO:+0000
TZNAME:GMT
DTSTART:20271031T010000
END:STANDARD
END:VTIMEZONE
BEGIN:VEVENT
DTSTART;TZID=Europe/London:20260610T190000
DTEND;TZID=Europe/London:20260610T220000
DTSTAMP:20260425T025150
CREATED:20260424T135226Z
LAST-MODIFIED:20260424T135226Z
UID:35740-1781118000-1781128800@www.discoverknutsford.com
SUMMARY:MAYOR EVENT | Dine with The Mayor of Knutsford
DESCRIPTION:Join the Mayor of Knutsford for his first fundraising event of the 26/27 mayoral term. \nHosted by Lined Stores\, guests will enjoy a fresh\, seasonal menu. \nDietary requirements catered for\, please advise on booking. \nLimited tickets available. All money raised will go to the mayors charities- Men’s Shed Knutsford and all four primary school PTA.
URL:https://www.discoverknutsford.com/event/mayor-event-dine-with-the-mayor-of-knutsford/
LOCATION:Linden Stores\, Minshull Street\, Knutsford
CATEGORIES:Food and Drink
ATTACH;FMTTYPE=image/png:https://www.discoverknutsford.com/wp-content/uploads/2026/04/Instagram-1-e1777038735972.png
END:VEVENT
BEGIN:VEVENT
DTSTART;TZID=Europe/London:20260627T120000
DTEND;TZID=Europe/London:20260627T170000
DTSTAMP:20260425T025150
CREATED:20260414T110625Z
LAST-MODIFIED:20260414T110625Z
UID:35632-1782561600-1782579600@www.discoverknutsford.com
SUMMARY:COMMUNITY | Armed Forces Day
DESCRIPTION:Date: 27th June 2026 \nVenue: The Moor and Scout Hut\, Knutsford \nTime: 12 noon – 5pm \nThe Knutsford Branch of the Royal British Legion is holding an event to celebrate and recognise Armed Forces Day and to raise money for the Poppy Appeal. The event will be on The Moor and also at the adjacent Scout Hut. There will be a BBQ and gazebos from various organisations\, e.g. Air Cadets\, Army Cadets\, Scouts\, Royal British Legion etc. \nThere will also be games (think church fête!) and prizes! Hopefully we will also have a band playing. \nThis is the first time in many years Knutsford is holding an event to recognise and celebrate Armed Forces Day. Please come and show your support. \nThe event will run from 12 noon until 5pm. \nFor more information about Armed Forces Day\, here is the official web site: https://www.armedforcesday.org.uk/ \nTo receive updates as we run up to Armed Forces Day\, follow our Facebook page: https://www.facebook.com/profile.php?id=61577709835701
URL:https://www.discoverknutsford.com/event/community-armed-forces-day/
LOCATION:Charlton Lodge Scout Hut\, The Moor\, Knutsford\, United Kingdom
CATEGORIES:Community,heritage,History,Live Music
ATTACH;FMTTYPE=image/png:https://www.discoverknutsford.com/wp-content/uploads/2026/04/AFD_Date_2026.png
ORGANIZER;CN="Royal British Legion":MAILTO:Knutsford Treasurer
END:VEVENT
END:VCALENDAR