BEGIN:VCALENDAR
VERSION:2.0
PRODID:-//Discover Knutsford - ECPv6.15.20//NONSGML v1.0//EN
CALSCALE:GREGORIAN
METHOD:PUBLISH
X-WR-CALNAME:Discover Knutsford
X-ORIGINAL-URL:https://www.discoverknutsford.com
X-WR-CALDESC:Events for Discover Knutsford
REFRESH-INTERVAL;VALUE=DURATION:PT1H
X-Robots-Tag:noindex
X-PUBLISHED-TTL:PT1H
BEGIN:VTIMEZONE
TZID:Europe/London
BEGIN:DAYLIGHT
TZOFFSETFROM:+0000
TZOFFSETTO:+0100
TZNAME:BST
DTSTART:20250330T010000
END:DAYLIGHT
BEGIN:STANDARD
TZOFFSETFROM:+0100
TZOFFSETTO:+0000
TZNAME:GMT
DTSTART:20251026T010000
END:STANDARD
BEGIN:DAYLIGHT
TZOFFSETFROM:+0000
TZOFFSETTO:+0100
TZNAME:BST
DTSTART:20260329T010000
END:DAYLIGHT
BEGIN:STANDARD
TZOFFSETFROM:+0100
TZOFFSETTO:+0000
TZNAME:GMT
DTSTART:20261025T010000
END:STANDARD
BEGIN:DAYLIGHT
TZOFFSETFROM:+0000
TZOFFSETTO:+0100
TZNAME:BST
DTSTART:20270328T010000
END:DAYLIGHT
BEGIN:STANDARD
TZOFFSETFROM:+0100
TZOFFSETTO:+0000
TZNAME:GMT
DTSTART:20271031T010000
END:STANDARD
END:VTIMEZONE
BEGIN:VEVENT
DTSTART;TZID=Europe/London:20261031T193000
DTEND;TZID=Europe/London:20261031T233000
DTSTAMP:20260425T210734
CREATED:20260311T121016Z
LAST-MODIFIED:20260311T121117Z
UID:35243-1793475000-1793489400@www.discoverknutsford.com
SUMMARY:ENTERTAINMENT | Bonkers Bingo: Halloween Edition
DESCRIPTION:BONKERS BINGO: Halloween Edition \nReturns with Rich Renda & Guests \nGet ready for a night of spooky chaos (the fun kind) as Rich Renda & special guests bring you high-energy\, laugh-out-loud\, dance-on-the-tables Bonkers Bingo 🕺🔥 \nThis isn’t your nan’s bingo. Expect: \n🎶 Big tunes\n🎤 Crowd games\n🎁 Wild prizes\n💃 Non-stop energy\n🤪 Total mayhem \nWhether you’re celebrating\, out with the gang\, or just fancy something different – this is your sign. \n🎟 £20 per ticket \n🕢 Doors open: 7:30pm\n🍔 Food available: 7:30pm – 8:30pm\n🎉 Bingo kicks off shortly after \nPlease note\nNo reserved seating – arrive early to grab your spot\nSeating is first come\, first served\nGather your crew\, bring the vibes\, and prepare for a BIG one. \nBonkers by name. Bonkers by nature. 💥
URL:https://www.discoverknutsford.com/event/bonkers-bingo-halloween-edition/
LOCATION:Lost and Found\, Princess Street\, Knutsford\, WA16 6BY\, United Kingdom
CATEGORIES:Comedy,Entertainment,Food and Drink
ATTACH;FMTTYPE=image/png:https://www.discoverknutsford.com/wp-content/uploads/2026/03/bonkers-bingo.png
ORGANIZER;CN="The Lost and Found Knutsford":MAILTO:knutsfordevents@the-lostandfound.com
END:VEVENT
END:VCALENDAR