BEGIN:VCALENDAR
VERSION:2.0
PRODID:-//Discover Knutsford - ECPv6.15.20//NONSGML v1.0//EN
CALSCALE:GREGORIAN
METHOD:PUBLISH
X-WR-CALNAME:Discover Knutsford
X-ORIGINAL-URL:https://www.discoverknutsford.com
X-WR-CALDESC:Events for Discover Knutsford
REFRESH-INTERVAL;VALUE=DURATION:PT1H
X-Robots-Tag:noindex
X-PUBLISHED-TTL:PT1H
BEGIN:VTIMEZONE
TZID:Europe/London
BEGIN:DAYLIGHT
TZOFFSETFROM:+0000
TZOFFSETTO:+0100
TZNAME:BST
DTSTART:20240331T010000
END:DAYLIGHT
BEGIN:STANDARD
TZOFFSETFROM:+0100
TZOFFSETTO:+0000
TZNAME:GMT
DTSTART:20241027T010000
END:STANDARD
BEGIN:DAYLIGHT
TZOFFSETFROM:+0000
TZOFFSETTO:+0100
TZNAME:BST
DTSTART:20250330T010000
END:DAYLIGHT
BEGIN:STANDARD
TZOFFSETFROM:+0100
TZOFFSETTO:+0000
TZNAME:GMT
DTSTART:20251026T010000
END:STANDARD
BEGIN:DAYLIGHT
TZOFFSETFROM:+0000
TZOFFSETTO:+0100
TZNAME:BST
DTSTART:20260329T010000
END:DAYLIGHT
BEGIN:STANDARD
TZOFFSETFROM:+0100
TZOFFSETTO:+0000
TZNAME:GMT
DTSTART:20261025T010000
END:STANDARD
END:VTIMEZONE
BEGIN:VEVENT
DTSTART;TZID=Europe/London:20251220T090000
DTEND;TZID=Europe/London:20251222T170000
DTSTAMP:20260425T170141
CREATED:20251112T123011Z
LAST-MODIFIED:20251112T123011Z
UID:34396-1766221200-1766422800@www.discoverknutsford.com
SUMMARY:CHRISTMAS | Christmas on the Farm
DESCRIPTION:Christmas on the Farm\nA magical festive adventure is arriving at The Lambing Shed\nOur barn will be transformed into a winter wonderland\, filled with Christmas sparkle\, friendly reindeers\, crafts\, and plenty of seasonal fun for the whole family. \nA Barn Full of Christmas Magic\nThis Christmas\, our barn will be transformed into a magical festive wonderland with reindeers\, donkeys\, marshmallow toasting\, Christmas crafts\, storytelling\, and plenty of playful elves — the perfect family day out to soak up the Christmas spirit. \n29th & 30th November\n20th\, 21st and 22nd December \nAdults – £7\nChildren 6 months+ – £18 \n\nFestive For Fun For Everyone\nChildren can get crafty with festive activities\, write their special letters to Father Christmas\, and listen to enchanting Christmas stories. \nToast marshmallows\, sip hot chocolate\, and soak up the seasonal atmosphere with family and friends. \nWhat does your ticket include?\n\n1 hour session in our barn\n> Meet our charming reindeer and donkeys\n> Listen to a magical Christmas tale told by our elves\n> Nov dates: Craft session to write letter to Father Christmas where you will receive a personalised reply\n> Dec dates: Craft session to make festive keep sakes\n> Create magical reindeer food\n> Photo opportunities with our large sleigh and animals \nPlease note there will be no Father Christmas at this event \n\nExtras to Enjoy on the Day:\nIndulge in steaming mugs of luxurious hot chocolate\, warming mulled wine\, perfectly toasted marshmallows\, and a tempting selection of delicious festive treats available to purchase inside the barn.
URL:https://www.discoverknutsford.com/event/christmas-christmas-on-the-farm-2/
LOCATION:The Lambing Shed\, Moseley Hall Farm\, Chelford Road\, Knutsford\, WA16 8RB\, United Kingdom
CATEGORIES:Arts & Crafts,Christmas,Community,Family,Food and Drink,Wildlife
ATTACH;FMTTYPE=image/jpeg:https://www.discoverknutsford.com/wp-content/uploads/2025/11/Lambing-Shed.jpg
END:VEVENT
END:VCALENDAR