BEGIN:VCALENDAR
VERSION:2.0
PRODID:-//Discover Knutsford - ECPv6.15.20//NONSGML v1.0//EN
CALSCALE:GREGORIAN
METHOD:PUBLISH
X-WR-CALNAME:Discover Knutsford
X-ORIGINAL-URL:https://www.discoverknutsford.com
X-WR-CALDESC:Events for Discover Knutsford
REFRESH-INTERVAL;VALUE=DURATION:PT1H
X-Robots-Tag:noindex
X-PUBLISHED-TTL:PT1H
BEGIN:VTIMEZONE
TZID:Europe/London
BEGIN:DAYLIGHT
TZOFFSETFROM:+0000
TZOFFSETTO:+0100
TZNAME:BST
DTSTART:20250330T010000
END:DAYLIGHT
BEGIN:STANDARD
TZOFFSETFROM:+0100
TZOFFSETTO:+0000
TZNAME:GMT
DTSTART:20251026T010000
END:STANDARD
BEGIN:DAYLIGHT
TZOFFSETFROM:+0000
TZOFFSETTO:+0100
TZNAME:BST
DTSTART:20260329T010000
END:DAYLIGHT
BEGIN:STANDARD
TZOFFSETFROM:+0100
TZOFFSETTO:+0000
TZNAME:GMT
DTSTART:20261025T010000
END:STANDARD
BEGIN:DAYLIGHT
TZOFFSETFROM:+0000
TZOFFSETTO:+0100
TZNAME:BST
DTSTART:20270328T010000
END:DAYLIGHT
BEGIN:STANDARD
TZOFFSETFROM:+0100
TZOFFSETTO:+0000
TZNAME:GMT
DTSTART:20271031T010000
END:STANDARD
END:VTIMEZONE
BEGIN:VEVENT
DTSTART;TZID=Europe/London:20260626T193000
DTEND;TZID=Europe/London:20260626T213000
DTSTAMP:20260425T234534
CREATED:20260220T151456Z
LAST-MODIFIED:20260220T151529Z
UID:34970-1782502200-1782509400@www.discoverknutsford.com
SUMMARY:THEATRE | Selene
DESCRIPTION:From the internationally award winning team behind ORPHEUS comes a new sibling show to the hugely acclaimed HELIOS. \nA story about the Goddess and The Darkside of the moon \nA young girl is watching the moon landings on repeat\,\nA bunch of teenagers are swimming under a lunar eclipse\,\nA mis-matched couple are watching a horror film at a drive in cinema\, \nSELENE is a radical exploding of an ancient myth.\nIt’s about how we grow up living defined by our bodies\,\nand about what happens when that changes. \nIt’s a story about what we’re stuck in the orbit of.\nIt’s a story about the light sides of us and the dark sides of us.\nAnd it’s about the stuff inside us. All the wild stuff inside of us. \nHosted by Knutsford Town Council in partnership with Cheshire Rural Touring Arts. \n\nAges 14+.\nUnreserved seating\nBar available
URL:https://www.discoverknutsford.com/event/theatre-selene/
LOCATION:Knutsford Market Hall\, Silk Mill Street\, Knutsford\, Cheshire\, WA16 6DF\, United Kingdom
CATEGORIES:Live Arts,Theatre
ATTACH;FMTTYPE=image/jpeg:https://www.discoverknutsford.com/wp-content/uploads/2026/02/selene.jpg
ORGANIZER;CN="Knutsford Town Council":MAILTO:enquiries@knutsfordtowncouncil.gov.uk
END:VEVENT
END:VCALENDAR