BEGIN:VCALENDAR
VERSION:2.0
PRODID:-//Discover Knutsford - ECPv6.15.20//NONSGML v1.0//EN
CALSCALE:GREGORIAN
METHOD:PUBLISH
X-WR-CALNAME:Discover Knutsford
X-ORIGINAL-URL:https://www.discoverknutsford.com
X-WR-CALDESC:Events for Discover Knutsford
REFRESH-INTERVAL;VALUE=DURATION:PT1H
X-Robots-Tag:noindex
X-PUBLISHED-TTL:PT1H
BEGIN:VTIMEZONE
TZID:Europe/London
BEGIN:DAYLIGHT
TZOFFSETFROM:+0000
TZOFFSETTO:+0100
TZNAME:BST
DTSTART:20230326T010000
END:DAYLIGHT
BEGIN:STANDARD
TZOFFSETFROM:+0100
TZOFFSETTO:+0000
TZNAME:GMT
DTSTART:20231029T010000
END:STANDARD
BEGIN:DAYLIGHT
TZOFFSETFROM:+0000
TZOFFSETTO:+0100
TZNAME:BST
DTSTART:20240331T010000
END:DAYLIGHT
BEGIN:STANDARD
TZOFFSETFROM:+0100
TZOFFSETTO:+0000
TZNAME:GMT
DTSTART:20241027T010000
END:STANDARD
BEGIN:DAYLIGHT
TZOFFSETFROM:+0000
TZOFFSETTO:+0100
TZNAME:BST
DTSTART:20250330T010000
END:DAYLIGHT
BEGIN:STANDARD
TZOFFSETFROM:+0100
TZOFFSETTO:+0000
TZNAME:GMT
DTSTART:20251026T010000
END:STANDARD
BEGIN:DAYLIGHT
TZOFFSETFROM:+0000
TZOFFSETTO:+0100
TZNAME:BST
DTSTART:20260329T010000
END:DAYLIGHT
BEGIN:STANDARD
TZOFFSETFROM:+0100
TZOFFSETTO:+0000
TZNAME:GMT
DTSTART:20261025T010000
END:STANDARD
BEGIN:DAYLIGHT
TZOFFSETFROM:+0000
TZOFFSETTO:+0100
TZNAME:BST
DTSTART:20270328T010000
END:DAYLIGHT
BEGIN:STANDARD
TZOFFSETFROM:+0100
TZOFFSETTO:+0000
TZNAME:GMT
DTSTART:20271031T010000
END:STANDARD
END:VTIMEZONE
BEGIN:VEVENT
DTSTART;TZID=Europe/London:20260401T193000
DTEND;TZID=Europe/London:20260401T210000
DTSTAMP:20260425T112359
CREATED:20260325T110657Z
LAST-MODIFIED:20260325T110657Z
UID:35463-1775071800-1775077200@www.discoverknutsford.com
SUMMARY:EASTER | Easter Quiz Night
DESCRIPTION:Special one night Easter Quiz at the Angel on King Street \nFree Entry \nContact the Angel directly to book your team
URL:https://www.discoverknutsford.com/event/easter-easter-quiz-night/
LOCATION:The Angel\, King Street\, Knutsford\, Select a State or Province:\, WA16 0SU\, United Kingdom
CATEGORIES:Community,Entertainment,Food and Drink,Pub Quiz
ATTACH;FMTTYPE=image/jpeg:https://www.discoverknutsford.com/wp-content/uploads/2025/12/angel-e1765544616473.jpg
END:VEVENT
BEGIN:VEVENT
DTSTART;TZID=Europe/London:20251203T190000
DTEND;TZID=Europe/London:20251203T223000
DTSTAMP:20260425T112359
CREATED:20251112T122125Z
LAST-MODIFIED:20251112T122125Z
UID:34387-1764788400-1764801000@www.discoverknutsford.com
SUMMARY:Quiz Night at Knutsford Market Hall in aid of Prevent Breast Cancer
DESCRIPTION:Please join us for a fun quiz night\, raising funds for Prevent Breast Cancer. \nTickets for the quiz are £20 (teams of 4 or 6) and our quiz master is the one and only Kevin Jardine! There will be Thai Tapas and a selection of beers\, wine and soft drinks available on the night. Plus there will be a raffle with prizes from local businesses and a small prize for the winning team. Thai Kitchen will donate 10% of their profits during the evening to the charity and all proceeds from the raffle and ticket sales go straight to this great charity. \nBook now as spaces are limited! Book via – https://www.tickettailor.com/events/pbc/1918368 \n 
URL:https://www.discoverknutsford.com/event/quiz-night-at-knutsford-market-hall-in-aid-of-prevent-breast-cancer/
LOCATION:Knutsford Market Hall\, Silk Mill Street\, Knutsford\, Cheshire\, WA16 6DF\, United Kingdom
CATEGORIES:Community,Fundraising,Pub Quiz
ATTACH;FMTTYPE=image/jpeg:https://www.discoverknutsford.com/wp-content/uploads/2025/11/Kevin-Jardine-and-May-Lynch-scaled.jpg
ORGANIZER;CN="Knutsford Sunday Monthly Market":MAILTO:april@btinternet.com
END:VEVENT
BEGIN:VEVENT
DTSTART;TZID=Europe/London:20251029T190000
DTEND;TZID=Europe/London:20251029T220000
DTSTAMP:20260425T112359
CREATED:20250808T091610Z
LAST-MODIFIED:20250808T091610Z
UID:33676-1761764400-1761775200@www.discoverknutsford.com
SUMMARY:QUIZ | Crosstown Community Orchard Pub Quiz
DESCRIPTION:Crosstown Community Orchard is hosting a fundraising quiz night at Knutsford Market Hall to raise funds for a new shed. \nDon’t worry\,  you don’t need the knowledge of a pomologist; whilst there will be some fruity angles to the quiz\, it will be a general knowledge quiz suitable for all. Prizes will be up for grabs and we promise it will be fun\, all whilst helping raise funds for our charity. \nWe’ll have a bar with local beer\, wine and soft drinks and no fundraising event is complete without a raffle with some great prizes from local businesses. \nIt’s £15 for a team of up to six people.
URL:https://www.discoverknutsford.com/event/quiz-crosstown-community-orchard-pub-quiz/
LOCATION:Knutsford Market Hall\, Silk Mill Street\, Knutsford\, Cheshire\, WA16 6DF\, United Kingdom
CATEGORIES:Fundraising,Pub Quiz
ATTACH;FMTTYPE=image/jpeg:https://www.discoverknutsford.com/wp-content/uploads/2025/08/orchard.jpg
ORGANIZER;CN="Crosstown Community Orchard":MAILTO:adam@crosstowncommunityorchard.org.uk
END:VEVENT
BEGIN:VEVENT
DTSTART;TZID=Europe/London:20250903T190000
DTEND;TZID=Europe/London:20250903T213000
DTSTAMP:20260425T112359
CREATED:20250829T152254Z
LAST-MODIFIED:20250829T152254Z
UID:33932-1756926000-1756935000@www.discoverknutsford.com
SUMMARY:ENTERTAINMENT | Never Mind The Gazzcocks @ Wallop Knutsford
DESCRIPTION:Never Mind The Gazzcocks is coming to Knutsford for the first time this September at Wallop! \nThe quiz you can sing along to! It’s the smartphone music quiz that combines classic rounds from Never Mind The Buzzcocks with some new ones thrown in for good measure\, that could include: \nNext Line\nFreeze Frame\nIdentity Parade\nReverse It\nAnd always the Intros round\nWith all the dry wit you can handle from presenter Gaz Jones\, and maybe even a kazoo or two. It’s the closest thing to experiencing Never Mind The Buzzcocks without breaking into the stage set\, and unlike any quiz night you’ve ever been to before. \nBe sure to follow on us on Instagram at @nevermindthegazzcocks
URL:https://www.discoverknutsford.com/event/entertainment-never-mind-the-gazzcocks-wallop-knutsford/
LOCATION:Wallop\, 76-78 King St\, Knutsford\, WA16 6ED\, United Kingdom
CATEGORIES:Entertainment,Pub Quiz
ATTACH;FMTTYPE=image/png:https://www.discoverknutsford.com/wp-content/uploads/2025/08/Screenshot-2025-08-29-162120-e1756480951416.png
END:VEVENT
BEGIN:VEVENT
DTSTART;TZID=Europe/London:20250726T200000
DTEND;TZID=Europe/London:20250726T230000
DTSTAMP:20260425T112359
CREATED:20250626T102122Z
LAST-MODIFIED:20250626T102122Z
UID:33276-1753560000-1753570800@www.discoverknutsford.com
SUMMARY:ENTERTAINMENT | Bangers Bingo!
DESCRIPTION:Welcome to Bangers Bingo! \nCome join us for a night of bingo like you’ve never experienced before at Six Knutsford. Get ready for a wild and wacky evening filled with music\, dancing\, and of course\, bingo! Our energetic hosts will keep you entertained all night long with hilarious games and fantastic prizes up for grabs. You will play five games of musical bingo\, set against the best music from this year\, last year and all the years! Wall-to-wall bangers\, all night long. Dancing is very much encouraged\, Cheating even more so! \nTickets are £7 and include a pint or glass of house wine on arrival. \nBOOK HERE
URL:https://www.discoverknutsford.com/event/entertainment-bangers-bingo/
LOCATION:SIX\, Silk Mill Street\, Knutsford\, WA16 6DF\, United Kingdom
CATEGORIES:Entertainment,Food and Drink,Pub Quiz
ATTACH;FMTTYPE=image/jpeg:https://www.discoverknutsford.com/wp-content/uploads/2025/06/2ffc20fc-4b2b-4eac-9897-43b4fd534716.jpeg
END:VEVENT
BEGIN:VEVENT
DTSTART;TZID=Europe/London:20241209T190000
DTEND;TZID=Europe/London:20241209T220000
DTSTAMP:20260425T112359
CREATED:20241031T121211Z
LAST-MODIFIED:20241105T105059Z
UID:31323-1733770800-1733781600@www.discoverknutsford.com
SUMMARY:QUIZ |  Christmas Quiz for Knutsford Royal May Day
DESCRIPTION:Join us for our annual Christmas charity quiz! \nHosted in our cosy bar area\, we’ll be putting you and your team to the test! You’ll be in with the chance to win all sorts of prizes\, in aid of the wonderful Knutsford Royal May Day Committee. \nBooking is advisable to secure your spot.
URL:https://www.discoverknutsford.com/event/christmas-charity-quiz-2024/
LOCATION:Lost and Found\, Princess Street\, Knutsford\, WA16 6BY\, United Kingdom
CATEGORIES:Christmas,Pub Quiz
ATTACH;FMTTYPE=image/jpeg:https://www.discoverknutsford.com/wp-content/uploads/2024/10/lost-found-Christmas.jpg
ORGANIZER;CN="Lost and Found":MAILTO:knutsford@the-lostandfound.com
END:VEVENT
END:VCALENDAR