BEGIN:VCALENDAR
VERSION:2.0
PRODID:-//Discover Knutsford - ECPv6.15.20//NONSGML v1.0//EN
CALSCALE:GREGORIAN
METHOD:PUBLISH
X-ORIGINAL-URL:https://www.discoverknutsford.com
X-WR-CALDESC:Events for Discover Knutsford
REFRESH-INTERVAL;VALUE=DURATION:PT1H
X-Robots-Tag:noindex
X-PUBLISHED-TTL:PT1H
BEGIN:VTIMEZONE
TZID:Europe/London
BEGIN:DAYLIGHT
TZOFFSETFROM:+0000
TZOFFSETTO:+0100
TZNAME:BST
DTSTART:20250330T010000
END:DAYLIGHT
BEGIN:STANDARD
TZOFFSETFROM:+0100
TZOFFSETTO:+0000
TZNAME:GMT
DTSTART:20251026T010000
END:STANDARD
BEGIN:DAYLIGHT
TZOFFSETFROM:+0000
TZOFFSETTO:+0100
TZNAME:BST
DTSTART:20260329T010000
END:DAYLIGHT
BEGIN:STANDARD
TZOFFSETFROM:+0100
TZOFFSETTO:+0000
TZNAME:GMT
DTSTART:20261025T010000
END:STANDARD
BEGIN:DAYLIGHT
TZOFFSETFROM:+0000
TZOFFSETTO:+0100
TZNAME:BST
DTSTART:20270328T010000
END:DAYLIGHT
BEGIN:STANDARD
TZOFFSETFROM:+0100
TZOFFSETTO:+0000
TZNAME:GMT
DTSTART:20271031T010000
END:STANDARD
END:VTIMEZONE
BEGIN:VEVENT
DTSTART;TZID=Europe/London:20260313T193000
DTEND;TZID=Europe/London:20260314T010000
DTSTAMP:20260424T215136
CREATED:20251212T133530Z
LAST-MODIFIED:20251212T133530Z
UID:34490-1773430200-1773450000@www.discoverknutsford.com
SUMMARY:MAYORS EVENT | The Mayor of Knutsford Charity Ball
DESCRIPTION:Join the Mayor of Knutsford for a night of fine food\, entertainment and dancing. \nAll money raised will go to the mayors two charities: Knutsford in Bloom & East Cheshire Hospice. \nTickets are available individually or as a table of ten
URL:https://www.discoverknutsford.com/event/mayors-event-the-mayor-of-knutsford-charity-ball/
LOCATION:Cottons Hotel & Spa\, Manchester Road\, Knutsford\, WA16 0SU
CATEGORIES:Entertainment,Fundraising
ATTACH;FMTTYPE=image/jpeg:https://www.discoverknutsford.com/wp-content/uploads/2025/12/guests-with-love-the-dentist-balloon-scaled.jpg
END:VEVENT
BEGIN:VEVENT
DTSTART;TZID=Europe/London:20260314T150000
DTEND;TZID=Europe/London:20260314T170000
DTSTAMP:20260424T215136
CREATED:20260224T160440Z
LAST-MODIFIED:20260224T160440Z
UID:35074-1773500400-1773507600@www.discoverknutsford.com
SUMMARY:FOOD & DRINK | Country Bottomless Brunch!
DESCRIPTION:Yeehaw\, brunch but make it cowgirl 🤠✨ \nThis one has been months in the making (plus one of our most requested to date) \nSaddle up for our Cowgirl Brunch\, celebrating International Women’s Day for a second year the only way we know how: with strong women\, strong drinks\, and unstoppable energy. For 2 glorious hours\, enjoy bottomless drinks\, a delicious brunch dish\, and a live country singer performing iconic anthems from Miley\, Dolly\, Carrie Underwood and other powerhouse queens of country. Expect big singalongs\, boot-tapping\, and serious main-character energy. \n🕒 3–5pm\n💷 £50.00 per person\n🍹 Drinks included:\nProsecco\nMimosas\nBellinis\nHouse spirit & mixer\nPints of Amstel\n🍳 One brunch dish included\n🎤 Live country performance by an incredible FEMALE vocalist. \nDust off your boots\, grab your hats\, and channel your inner cowgirl — fringe\, glitter\, and dramatic yeehaws are highly encouraged. \nWe’re also proudly supporting breast cancer prevention again this year\, with donations encouraged on the day\, so you can brunch\, belt it out\, and support an incredible cause 💗 \nYou don’t have to venture into the city for a good day our. Powerhouse women. Country anthems. Bottomless drinks. Giddy up — this cowgirl brunch is not to be missed. 🐎✨
URL:https://www.discoverknutsford.com/event/food-drink-country-bottomless-brunch/
LOCATION:Lost and Found\, Princess Street\, Knutsford\, WA16 6BY\, United Kingdom
CATEGORIES:Entertainment,Food and Drink
ATTACH;FMTTYPE=image/jpeg:https://www.discoverknutsford.com/wp-content/uploads/2026/02/no-revisions-UbujEmVOTXg-unsplash-scaled-e1771948562211.jpg
END:VEVENT
END:VCALENDAR