BEGIN:VCALENDAR
VERSION:2.0
PRODID:-//Discover Knutsford - ECPv6.15.20//NONSGML v1.0//EN
CALSCALE:GREGORIAN
METHOD:PUBLISH
X-WR-CALNAME:Discover Knutsford
X-ORIGINAL-URL:https://www.discoverknutsford.com
X-WR-CALDESC:Events for Discover Knutsford
REFRESH-INTERVAL;VALUE=DURATION:PT1H
X-Robots-Tag:noindex
X-PUBLISHED-TTL:PT1H
BEGIN:VTIMEZONE
TZID:Europe/London
BEGIN:DAYLIGHT
TZOFFSETFROM:+0000
TZOFFSETTO:+0100
TZNAME:BST
DTSTART:20250330T010000
END:DAYLIGHT
BEGIN:STANDARD
TZOFFSETFROM:+0100
TZOFFSETTO:+0000
TZNAME:GMT
DTSTART:20251026T010000
END:STANDARD
BEGIN:DAYLIGHT
TZOFFSETFROM:+0000
TZOFFSETTO:+0100
TZNAME:BST
DTSTART:20260329T010000
END:DAYLIGHT
BEGIN:STANDARD
TZOFFSETFROM:+0100
TZOFFSETTO:+0000
TZNAME:GMT
DTSTART:20261025T010000
END:STANDARD
BEGIN:DAYLIGHT
TZOFFSETFROM:+0000
TZOFFSETTO:+0100
TZNAME:BST
DTSTART:20270328T010000
END:DAYLIGHT
BEGIN:STANDARD
TZOFFSETFROM:+0100
TZOFFSETTO:+0000
TZNAME:GMT
DTSTART:20271031T010000
END:STANDARD
END:VTIMEZONE
BEGIN:VEVENT
DTSTART;TZID=Europe/London:20260124T183000
DTEND;TZID=Europe/London:20260124T213000
DTSTAMP:20260424T231647
CREATED:20251222T150120Z
LAST-MODIFIED:20251222T151026Z
UID:34531-1769279400-1769290200@www.discoverknutsford.com
SUMMARY:ARTS & CRAFTS | BYOB Pottery Painting Evening at Knutcraft
DESCRIPTION:BYOB Pottery Painting Evening \nSip\, paint & relax at this adult only pottery painting session where you’re invited to bring-your-own-bottle (or order from the new Mocktail station) for an evening of creativity in Knutsford’s new craft venue. \nAll abilities are welcome\, and tickets cost just £5 per person plus the price of the pottery piece you choose to paint on the night. \nSecure your spot via the Knutcraft website: www.knutcraft.co.uk
URL:https://www.discoverknutsford.com/event/arts-crafts-byob-pottery-painting-evening-at-knutcraft-copy/
LOCATION:Knutcraft\, Ruskin Chambers\, Drury Lane\, Knutsford\, Cheshire\, WA16 6HA\, United Kingdom
CATEGORIES:Arts & Crafts,Entertainment,Food and Drink
ATTACH;FMTTYPE=image/jpeg:https://www.discoverknutsford.com/wp-content/uploads/2025/11/Painting.jpg
ORGANIZER;CN="Knutcraft":MAILTO:helen@knutcraft.co.uk
END:VEVENT
END:VCALENDAR