BEGIN:VCALENDAR
VERSION:2.0
PRODID:-//Discover Knutsford - ECPv6.15.20//NONSGML v1.0//EN
CALSCALE:GREGORIAN
METHOD:PUBLISH
X-WR-CALNAME:Discover Knutsford
X-ORIGINAL-URL:https://www.discoverknutsford.com
X-WR-CALDESC:Events for Discover Knutsford
REFRESH-INTERVAL;VALUE=DURATION:PT1H
X-Robots-Tag:noindex
X-PUBLISHED-TTL:PT1H
BEGIN:VTIMEZONE
TZID:Europe/London
BEGIN:DAYLIGHT
TZOFFSETFROM:+0000
TZOFFSETTO:+0100
TZNAME:BST
DTSTART:20250330T010000
END:DAYLIGHT
BEGIN:STANDARD
TZOFFSETFROM:+0100
TZOFFSETTO:+0000
TZNAME:GMT
DTSTART:20251026T010000
END:STANDARD
BEGIN:DAYLIGHT
TZOFFSETFROM:+0000
TZOFFSETTO:+0100
TZNAME:BST
DTSTART:20260329T010000
END:DAYLIGHT
BEGIN:STANDARD
TZOFFSETFROM:+0100
TZOFFSETTO:+0000
TZNAME:GMT
DTSTART:20261025T010000
END:STANDARD
BEGIN:DAYLIGHT
TZOFFSETFROM:+0000
TZOFFSETTO:+0100
TZNAME:BST
DTSTART:20270328T010000
END:DAYLIGHT
BEGIN:STANDARD
TZOFFSETFROM:+0100
TZOFFSETTO:+0000
TZNAME:GMT
DTSTART:20271031T010000
END:STANDARD
END:VTIMEZONE
BEGIN:VEVENT
DTSTART;TZID=Europe/London:20260424T100000
DTEND;TZID=Europe/London:20260424T120000
DTSTAMP:20260424T141213
CREATED:20260421T103238Z
LAST-MODIFIED:20260421T103238Z
UID:35666-1777024800-1777032000@www.discoverknutsford.com
SUMMARY:COMMUNITY | Coffee Morning
DESCRIPTION:Coffee morning at KMC raising funds for The Friendship cafe who meet weekly on Friday mornings from 10 – 12 noon. Friendship Cafe provides entertainment activities & support for those living with dementia and their carers.\nTea/ coffee & biscuits £1.50. All are welcome.
URL:https://www.discoverknutsford.com/event/community-coffee-morning/
LOCATION:Knutsford Methodist Church\, Princess St\, Knutsford\, WA16 6BY\, United Kingdom
CATEGORIES:Community,Fundraising
ATTACH;FMTTYPE=image/jpeg:https://www.discoverknutsford.com/wp-content/uploads/2026/04/priscilla-du-preez-g86airJZ4Gs-unsplash-scaled.jpg
END:VEVENT
BEGIN:VEVENT
DTSTART;TZID=Europe/London:20260424T100000
DTEND;TZID=Europe/London:20260424T133000
DTSTAMP:20260424T141213
CREATED:20260325T115851Z
LAST-MODIFIED:20260325T115851Z
UID:35480-1777024800-1777037400@www.discoverknutsford.com
SUMMARY:PHOTOGRAPHY | Adult's Smartphone Photography Workshop
DESCRIPTION:Join professional photographer\, Jane Burkinshaw\, for a hands-on photography workshop\, which teaches you how to use your phone’s features to the max\, to understand why the light is so important and how to craft images that are much more than snapshots.\nJane is the owner of Love Your Lens and has more than 15 years of experience of teaching photography. \nThe workshop will include some classroom time to focus on techniques\, as well as plenty of time outside\, photographing Tatton Park’s beautiful surroundings. \nThe event includes access to the parkland and entry to the attractions used in the workshop (which may vary depending on the time of year). Participants should be dressed for the outdoors and come equipped with a fully charged smartphone. Please also bring your charger as a backup. \nRefreshments are available to purchase in the restaurant and you are also welcome to bring your own.
URL:https://www.discoverknutsford.com/event/photography-adults-smartphone-photography-workshop/
LOCATION:Tatton Park
CATEGORIES:Arts & Crafts
ATTACH;FMTTYPE=image/jpeg:https://www.discoverknutsford.com/wp-content/uploads/2026/01/Tatton-Park-Guided-Outdoor-adventures-e1767952999430.jpg
END:VEVENT
END:VCALENDAR